Workbook

Sheet Cover
A4: ComfortDelGro Corporation Limited
A5: SGX: C52
A6: SGX: C52
A7: Integrated 3-Statement Financial Model
A8: FY2020 – FY2029E
A10: All figures in S$ millions unless stated otherwise
A11: Source: ComfortDelGro IR filings, SGX announcements
A12: Prepared: February 2026
A13: EPS and DPS in Singapore cents
A16: Reporting Currency: SGD (S$)
A17: Fiscal Year End: 31 December
A18: Auditor: KPMG LLP
A19: Accounting Standards: SFRS(I)

Sheet Disclosures
A1: ComfortDelGro Corporation Limited — Model Disclosures
A3: DATA SOURCES
A4: All historical data sourced from official ComfortDelGro IR filings and SGX announcements (FY2020-FY2024, 1H2025)
A6: FORECAST METHODOLOGY
A7: Revenue: Bottom-up by segment using organic growth rates and M&A full-year effects
A8: Margins: Segment-level operating margin assumptions applied to segment revenue
A9: D&A: Percentage of average PP&E; Capex as percentage of revenue
A10: Working Capital: Turnover-day based (receivables days, payables days, inventory days)
A11: Debt: Full roll-forward with separate bank debt and lease liabilities; interest on avg balance
A12: Cash Flow: Indirect method; CFO derived from PATMI + D&A + WC changes
A14: KEY ASSUMPTIONS
A15: WACC: 8.0% | Terminal Growth: 2.0% | Effective Tax Rate: ~19.5% | Payout Ratio: 75%
... A20: Fiscal year end: 31 December | Reporting currency: SGD

Sheet Assumptions
A1: 0.03
A2: ASSUMPTIONS
A4: (S$m unless stated) | B4: FY2020 | C4: FY2021 | D4: FY2022 | E4: FY2023 | F4: FY2024 | G4: 1H2025 | H4: FY2025E | I4: FY2026E | J4: FY2027E | K4: FY2028E | L4: FY2029E
A5: REVENUE GROWTH ASSUMPTIONS
A6: Public Transport growth | B6: =Segment_Model!C12 -> 0.080244248 | C6: =(Segment_Model!C6-Segment_Model!B6)/Segment_Model!B6 -> 0.089669194 | D6: =(Segment_Model!D6-Segment_Model!C6)/Segment_Model!C6 -> 0.12205551 | E6: =(3107.5-2959.3)/2959.3 -> 0.050079411 | G6: 0.04 | H6: 0.05 | I6: 0.035 | J6: 0.03 | K6: 0.03 | L6: 0.03
A7: Taxi and PHV growth | B7: =(Segment_Model!C7-Segment_Model!B7)/Segment_Model!B7 -> 0.0058926233 | C7: =(Segment_Model!C7-Segment_Model!B7)/Segment_Model!B7 -> 0.0058926233 | D7: =(Segment_Model!D7-Segment_Model!C7)/Segment_Model!C7 -> 0.20373183 | E7: =(748.7-574.7)/574.7 -> 0.30276666 | G7: 0.35 | H7: 0.35 | I7: 0.03 | J7: 0.03 | K7: 0.025 | L7: 0.025
A8: Other Private Transport growth | B8: =(Segment_Model!C8-Segment_Model!B8)/Segment_Model!B8 -> 0.49292929 | C8: =(Segment_Model!C8-Segment_Model!B8)/Segment_Model!B8 -> 0.49292929 | D8: =(Segment_Model!D8-Segment_Model!C8)/Segment_Model!C8 -> 1.0230041 | E8: =(406.2-143.8)/143.8 -> 1.8247566 | G8: 0.06 | H8: 0.15 | I8: 0.035 | J8: 0.03 | K8: 0.03 | L8: 0.03
A9: Inspection & Testing growth | B9: =(Segment_Model!C9-Segment_Model!B9)/Segment_Model!B9 -> 0.031948882 | C9: =(Segment_Model!C9-Segment_Model!B9)/Segment_Model!B9 -> 0.031948882 | D9: =(Segment_Model!D9-Segment_Model!C9)/Segment_Model!C9 -> 0.093911249 | E9: =(117-109.5)/109.5 -> 0.068493151 | G9: 0.08 | H9: 0.05 | I9: 0.04 | J9: 0.03 | K9: 0.03 | L9: 0.03
A10: Other Segments growth | B10: =(Segment_Model!C10-Segment_Model!B10)/Segment_Model!B10 -> 0.065690825 | C10: =(Segment_Model!C10-Segment_Model!B10)/Segment_Model!B10 -> 0.065690825 | D10: =(Segment_Model!D10-Segment_Model!C10)/Segment_Model!C10 -> -0.71892797 | E10: =(97.1-93)/93 -> 0.044086022 | G10: 0.03 | H10: 0.02 | I10: 0.02 | J10: 0.02 | K10: 0.02 | L10: 0.02
A12: MARGIN ASSUMPTIONS
A13: Public Transport OP margin | B13: 0.015 | C13: =Segment_Model!C24 -> 0.038987794 | D13: =Segment_Model!D24 -> 0.05650246 | E13: 0.041 | F13: 0.042 | G13: 0.045 | H13: 0.046 | I13: 0.047 | J13: 0.048 | K13: 0.048 | L13: 0.048
A14: Taxi/PHV OP margin | B14: 0.073 | C14: =Segment_Model!C25 -> 0.11607724 | D14: =Segment_Model!D25 -> 0.12058399 | E14: 0.186 | F14: 0.181 | G14: 0.14 | H14: 0.15 | I14: 0.155 | J14: 0.16 | K14: 0.165 | L14: 0.165
A15: Other Private Transport OP margin | B15: 0.459 | C15: =Segment_Model!C26 -> 0.1623816 | D15: =Segment_Model!D26 -> -0.036120401 | E15: -0.011 | F15: 0.042 | G15: 0.045 | H15: 0.05 | I15: 0.055 | J15: 0.055 | K15: 0.055 | L15: 0.055
A16: Inspection & Testing OP margin | B16: 0.133 | C16: =Segment_Model!C27 -> 0.1496388 | D16: =Segment_Model!D27 -> 0.30754717 | E16: 0.301 | F16: 0.296 | G16: 0.28 | H16: 0.27 | I16: 0.26 | J16: 0.25 | K16: 0.25 | L16: 0.25
A17: Other Segments OP margin | B17: 0.063 | C17: =Segment_Model!C28 -> 0.065326633 | D17: =Segment_Model!D28 -> 0.15256257 | E17: 0.146 | F17: 0.063 | G17: 0.06 | H17: 0.06 | I17: 0.06 | J17: 0.06 | K17: 0.06 | L17: 0.06
A19: BELOW-THE-LINE ASSUMPTIONS
A20: D&A / avg PP&E | G20: 0.165 | H20: 0.165 | I20: 0.16 | J20: 0.155 | K20: 0.155 | L20: 0.155
A21: Capex / Revenue | B21: 0.061 | C21: 0.064 | D21: 0.08 | E21: 0.095 | F21: 0.099 | G21: 0.09 | H21: 0.085 | I21: 0.08 | J21: 0.075 | K21: 0.075 | L21: 0.075
A22: Effective tax rate | B22: 0.208 | C22: =-Income_Statement!C17/Income_Statement!C16 -> 0.21468927 | D22: 0.199 | E22: 0.196 | F22: 0.195 | G22: 0.195 | H22: 0.195 | I22: 0.195 | J22: 0.195 | K22: 0.195 | L22: 0.195
A23: NCI % of PAT | B23: =30.9/91.7 -> 0.33696838 | C23: =-Income_Statement!C19/Income_Statement!C18 -> 0.19555265 | D23: =45.4/218.5 -> 0.20778032 | E23: =44.5/225 -> 0.19777778 | F23: =45.2/255.7 -> 0.17676965 | G23: 0.17 | H23: 0.16 | I23: 0.15 | J23: 0.15 | K23: 0.15 | L23: 0.15
A24: Net investment income (S$m) | B24: 8.8 | C24: 6.1 | D24: 15.2 | E24: 29.4 | F24: 31.7 | G24: 25 | H24: 28 | I24: 28 | J24: 28 | K24: 28 | L24: 28
A25: Share of associates/JVs (S$m) | B25: 0 | C25: 0.1 | D25: 0.8 | E25: 1.4 | F25: 1.8 | G25: 2 | H25: 2.5 | I25: 3 | J25: 3 | K25: 3 | L25: 3
A27: WORKING CAPITAL ASSUMPTIONS
A28: Receivables days | B28: =589/3242.6*365 -> 66.300191 | C28: =569.8/3502.8*365 -> 59.3745 | D28: =476.7/3780.8*365 -> 46.020816 | E28: =532.7/3880.3*365 -> 50.108368 | F28: =725.7/4476.5*365 -> 59.171339 | G28: 55 | H28: 53 | I28: 52 | J28: 50 | K28: 50 | L28: 50
A29: Inventory days | B29: =127.9/3242.6*365 -> 14.396935 | C29: =116.9/3502.8*365 -> 12.181255 | D29: =120.1/3780.8*365 -> 11.594504 | E29: =141.7/3880.3*365 -> 13.328995 | F29: =158/4476.5*365 -> 12.882833 | G29: 13 | H29: 13 | I29: 12 | J29: 12 | K29: 12 | L29: 12
A30: Payables days | B30: =675/3242.6*365 -> 75.980695 | C30: =775.6/3502.8*365 -> 80.819345 | D30: =832.2/3780.8*365 -> 80.340933 | E30: =807.4/3880.3*365 -> 75.947994 | F30: =1001.1/4476.5*365 -> 81.626606 | G30: 78 | H30: 76 | I30: 75 | J30: 74 | K30: 74 | L30: 74
A31: Other current assets / Revenue (%) | B31: =Balance_Sheet!B9/Income_Statement!B5 -> 0 | C31: =Balance_Sheet!C9/Income_Statement!C5 -> 0.0042251913 | D31: =Balance_Sheet!D9/Income_Statement!D5 -> 0.021397588 | E31: =Balance_Sheet!E9/Income_Statement!E5 -> 0.021338556 | F31: =Balance_Sheet!F9/Income_Statement!F5 -> 0.027476823 | G31: =AVERAGE(B31:F31) -> 0.014887632 | H31: =G31 -> 0.014887632 | I31: =H31 -> 0.014887632 | J31: =I31 -> 0.014887632 | K31: =J31 -> 0.014887632 | L31: =K31 -> 0.014887632
A32: Other liabilities / Revenue (%) | B32: =Balance_Sheet!B20/Income_Statement!B5 -> 0.17029544 | C32: =Balance_Sheet!C20/Income_Statement!C5 -> 0.13437821 | D32: =Balance_Sheet!D20/Income_Statement!D5 -> 0.10130131 | E32: =Balance_Sheet!E20/Income_Statement!E5 -> 0.090018813 | F32: =Balance_Sheet!F20/Income_Statement!F5 -> 0.08343572 | G32: =AVERAGE(D32:F32) -> 0.091585282 | H32: =G32 -> 0.091585282 | I32: =H32 -> 0.091585282 | J32: =I32 -> 0.091585282 | K32: =J32 -> 0.091585282 | L32: =K32 -> 0.091585282
A33: Interest rate on borrowings | G33: 0.04 | H33: 0.04 | I33: 0.038 | J33: 0.035 | K33: 0.035 | L33: 0.035
A34: Lease interest rate (IFRS 16) | G34: 0.035 | H34: 0.035 | I34: 0.035 | J34: 0.035 | K34: 0.035 | L34: 0.035
A35: Net borrowing change (S$m) | G35: -100 | H35: -100 | I35: -80 | J35: -60 | K35: -50 | L35: -50
A36: Lease repayment (S$m) | B36: -30.8 | C36: -30.6 | D36: -42.2 | E36: -45 | F36: -42.6 | G36: -60 | H36: -60 | I36: -55 | J36: -55 | K36: -55 | L36: -55
A37: New lease additions (S$m) | G37: 50 | H37: 50 | I37: 45 | J37: 45 | K37: 45 | L37: 45
A39: DIVIDEND & EQUITY ASSUMPTIONS
A40: Payout ratio (% PATMI) | G40: 0.75 | H40: 0.75 | I40: 0.75 | J40: 0.75 | K40: 0.75 | L40: 0.75
A41: NCI dividends (S$m) | B41: -29.8 | C41: -30.9 | D41: -33.5 | E41: -57.7 | F41: -32.6 | G41: -38 | H41: -38 | I41: -35 | J41: -35 | K41: -35 | L41: -35
A42: WA shares outstanding (m) | B42: 2163.5 | C42: 2165 | D42: 2165.5 | E42: 2165.7 | F42: 2165.8 | G42: 2166.6 | H42: 2166.6 | I42: 2166.6 | J42: 2166.6 | K42: 2166.6 | L42: 2166.6
A44: VALUATION ASSUMPTIONS
A45: WACC | G45: 0.08
A46: Terminal growth rate | G46: 0.02 | L46: 0.02
...

Sheet Historical_Financials
A1: ComfortDelGro Corporation Limited — Historical Financials (Restated for SFRS(I) INT 12)
A3: (S$m unless noted) | B3: FY2020 | C3: FY2021 | D3: FY2022 | E3: FY2023 | F3: FY2024
A4: INCOME STATEMENT
A5: Revenue | B5: 3242.6 | C5: 3502.8 | D5: 3780.8 | E5: 3880.3 | F5: 4476.5
A6: Operating Profit | B6: 121.7 | C6: 199.8 | D6: 270 | E6: 272.1 | F6: 322.9
A7: D&A | B7: 432 | C7: 376.3 | D7: 357.2 | E7: 364.2 | F7: 368.4
A8: EBITDA | B8: 553.7 | C8: 576.1 | D8: 627.2 | E8: 636.3 | F8: 691.3
A9: Finance Costs | B9: -14.7 | C9: -11.3 | D9: -13.3 | E9: -22.9 | F9: -38.9
A10: PAT | B10: 91.7 | C10: 152.9 | D10: 218.5 | E10: 225 | F10: 255.7
A11: PATMI | B11: 60.8 | C11: 123 | D11: 173.1 | E11: 180.5 | F11: 210.5
A12: EPS (cents) | B12: 2.81 | C12: 5.68 | D12: 7.99 | E12: 8.33 | F12: 9.72
A13: DPS (cents) | B13: 1.43 | C13: 4.2 | D13: 8.48 | E13: 6.66 | F13: 7.77
A15: BALANCE SHEET
A16: Total Assets | B16: 4927 | C16: 4914.4 | D16: 4701.9 | E16: 4689.7 | F16: 5725.8
A17: Total Liabilities | B17: 1879.8 | C17: 1806 | D17: 1696.9 | E17: 1675.8 | F17: 2700.2
A18: Total Equity | B18: 3047.2 | C18: 3108.4 | D18: 3005 | E18: 3013.9 | F18: 3025.6
A20: CASH FLOW
A21: CFO | B21: 544.3 | C21: 656.5 | D21: 602.3 | E21: 449.1 | F21: 547.5
A22: Capex | B22: -198.5 | C22: -223.8 | D22: -302.4 | E22: -367.5 | F22: -445.1
A23: FCF (CFO - Capex) | B23: 345.8 | C23: 432.7 | D23: 299.9 | E23: 81.6 | F23: 102.4
A24: Dividends (shareholders) | B24: -114.6 | C24: -76.5 | D24: -137.8 | E24: -154.2 | F24: -157.7
A27: DETAILED BALANCE SHEET
A28: Other current assets | B28: =B34-742.8-589-127.9 -> 0 | C28: =C34-919.1-569.8-116.9 -> 14.8 | D28: =D34-967-476.7-120.1 -> 80.9 | E28: =E34-856.9-532.7-141.7 -> 82.8 | F28: =F34-892.4-725.7-158 -> 123
A30: Borrowings | B30: 463.7 | C30: 341 | D30: 292.2 | E30: 350.3 | F30: 1081.6
A31: Lease liabilities (IFRS 16) | B31: 188.9 | C31: 218.7 | D31: 189.5 | E31: 168.8 | F31: 244
A32: Trade and other payables | B32: 675 | C32: 775.6 | D32: 832.2 | E32: 807.4 | F32: 1001.1
A33: Other liabilities | B33: =B17-463.7-188.9-675 -> 552.2 | C33: =C17-341-218.7-775.6 -> 470.7 | D33: =D17-292.2-189.5-832.2 -> 383 | E33: =E17-350.3-168.8-807.4 -> 349.3 | F33: =F17-1081.6-244-1001.1 -> 373.5
A34: Total current assets (reported) | B34: 1459.7 | C34: 1620.6 | D34: 1644.7 | E34: 1614.1 | F34: 1899.1
A35: Total non-current liabilities (reported) | B35: 867.3 | C35: 815.9 | D35: 656.1 | E35: 584.2 | F35: 899.5

Sheet Segment_Model
A1: COMFORTDELGRO CORPORATION LIMITED (SGX: C52)
A2: SEGMENT MODEL
A4: (S$m) | B4: FY2020 | C4: FY2021 | D4: FY2022 | E4: FY2023 | F4: FY2024 | G4: 1H2025 | H4: FY2025E | I4: FY2026E | J4: FY2027E | K4: FY2028E | L4: FY2029E
A5: SEGMENT REVENUE
A6: Public Transport Services | B6: 2360.9 | C6: 2572.6 | D6: 2886.6 | E6: 2959.3 | F6: 3107.5 | G6: 1571.1 | H6: =F6*(1+Assumptions!H6) -> 3262.875 | I6: =H6*(1+Assumptions!I6) -> 3377.0756 | J6: =I6*(1+Assumptions!J6) -> 3478.3879 | K6: =J6*(1+Assumptions!K6) -> 3582.7395 | L6: =K6*(1+Assumptions!L6) -> 3690.2217
A7: Taxi and PHV | B7: 458.2 | C7: 460.9 | D7: 554.8 | E7: 574.7 | F7: 748.7 | G7: 519.7 | H7: =F7*(1+Assumptions!H7) -> 1010.745 | I7: =H7*(1+Assumptions!I7) -> 1041.0674 | J7: =I7*(1+Assumptions!J7) -> 1072.2994 | K7: =J7*(1+Assumptions!K7) -> 1099.1069 | L7: =K7*(1+Assumptions!L7) -> 1126.5845
A8: Other Private Transport | B8: 49.5 | C8: 73.9 | D8: 149.5 | E8: 143.8 | F8: 406.2 | G8: 214.5 | H8: =F8*(1+Assumptions!H8) -> 467.13 | I8: =H8*(1+Assumptions!I8) -> 483.47955 | J8: =I8*(1+Assumptions!J8) -> 497.98394 | K8: =J8*(1+Assumptions!K8) -> 512.92345 | L8: =K8*(1+Assumptions!L8) -> 528.31116
A9: Inspection & Testing | B9: 93.9 | C9: 96.9 | D9: 106 | E9: 109.5 | F9: 117 | G9: 68.6 | H9: =F9*(1+Assumptions!H9) -> 122.85 | I9: =H9*(1+Assumptions!I9) -> 127.764 | J9: =I9*(1+Assumptions!J9) -> 131.59692 | K9: =J9*(1+Assumptions!K9) -> 135.54483 | L9: =K9*(1+Assumptions!L9) -> 139.61117
A10: Other Segments | B10: 280.1 | C10: 298.5 | D10: 83.9 | E10: 93 | F10: 97.1 | G10: 48.8 | H10: =F10*(1+Assumptions!H10) -> 99.042 | I10: =H10*(1+Assumptions!I10) -> 101.02284 | J10: =I10*(1+Assumptions!J10) -> 103.0433 | K10: =J10*(1+Assumptions!K10) -> 105.10416 | L10: =K10*(1+Assumptions!L10) -> 107.20625
A11: Total Revenue | B11: =SUM(B6:B10) -> 3242.6 | C11: =SUM(C6:C10) -> 3502.8 | D11: =SUM(D6:D10) -> 3780.8 | E11: =SUM(E6:E10) -> 3880.3 | F11: =SUM(F6:F10) -> 4476.5 | G11: =SUM(G6:G10) -> 2422.7 | H11: =SUM(H6:H10) -> 4962.642 | I11: =SUM(I6:I10) -> 5130.4094 | ... L11: =SUM(L6:L10) -> 5591.9348
A12: YoY growth | C12: =C11/B11-1 -> 0.080244248 | D12: =D11/C11-1 -> 0.079365079 | E12: =E11/D11-1 -> 0.026317182 | F12: =F11/E11-1 -> 0.15364791 | H12: =H11/F11-1 -> 0.10859868 | I12: =I11/H11-1 -> 0.033806058 | J12: =J11/I11-1 -> 0.02980309 | K12: =K11/J11-1 -> 0.028790166 | L12: =L11/K11-1 -> 0.028795571
A14: SEGMENT OPERATING PROFIT
A15: Public Transport Services | B15: 35.5 | C15: 100.3 | D15: 163.1 | E15: 120.4 | F15: 130 | G15: 76.5 | H15: =H6*Assumptions!H13 -> 150.09225 | I15: =I6*Assumptions!I13 -> 158.72255 | J15: =J6*Assumptions!J13 -> 166.96262 | K15: =K6*Assumptions!K13 -> 171.9715 | L15: =L6*Assumptions!L13 -> 177.13064
A16: Taxi and PHV | B16: 33.5 | C16: 53.5 | D16: 66.9 | E16: 106.7 | F16: 135.3 | G16: 67.5 | H16: =H7*Assumptions!H14 -> 151.61175 | I16: =I7*Assumptions!I14 -> 161.36544 | J16: =J7*Assumptions!J14 -> 171.5679 | K16: =K7*Assumptions!K14 -> 181.35263 | L16: =L7*Assumptions!L14 -> 185.88645
A17: Other Private Transport | B17: 22.7 | C17: 12 | D17: -5.4 | E17: -1.6 | F17: 16.9 | G17: 5.6 | H17: =H8*Assumptions!H15 -> 23.3565 | I17: =I8*Assumptions!I15 -> 26.591375 | J17: =J8*Assumptions!J15 -> 27.389117 | K17: =K8*Assumptions!K15 -> 28.21079 | L17: =L8*Assumptions!L15 -> 29.057114
A18: Inspection & Testing | B18: 12.5 | C18: 14.5 | D18: 32.6 | E18: 33 | F18: 34.6 | G18: 18.9 | H18: =H9*Assumptions!H16 -> 33.1695 | I18: =I9*Assumptions!I16 -> 33.21864 | J18: =J9*Assumptions!J16 -> 32.89923 | K18: =K9*Assumptions!K16 -> 33.886207 | L18: =L9*Assumptions!L16 -> 34.902793
A19: Other Segments | B19: 17.5 | C19: 19.5 | D19: 12.8 | E19: 13.6 | F19: 6.1 | G19: 4 | H19: =H10*Assumptions!H17 -> 5.94252 | I19: =I10*Assumptions!I17 -> 6.0613704 | J19: =J10*Assumptions!J17 -> 6.1825978 | K19: =K10*Assumptions!K17 -> 6.3062498 | L19: =L10*Assumptions!L17 -> 6.4323748
A20: Total Operating Profit | B20: =SUM(B15:B19) -> 121.7 | C20: =SUM(C15:C19) -> 199.8 | D20: =SUM(D15:D19) -> 270 | E20: =SUM(E15:E19) -> 272.1 | F20: =SUM(F15:F19) -> 322.9 | G20: =SUM(G15:G19) -> 172.5 | H20: =SUM(H15:H19) -> 364.17252 | I20: =SUM(I15:I19) -> 385.95938 | ... L20: =SUM(L15:L19) -> 433.40937
A21: OP margin | B21: =B20/B11 -> 0.03753161 | C21: =C20/C11 -> 0.057040082 | D21: =D20/D11 -> 0.071413457 | E21: =E20/E11 -> 0.070123444 | F21: =F20/F11 -> 0.072132246 | G21: =G20/G11 -> 0.071201552 | H21: =H20/H11 -> 0.073382791 | I21: =I20/I11 -> 0.075229743 | ... L21: =L20/L11 -> 0.077506156
A23: SEGMENT OPERATING MARGIN
A24: Public Transport | B24: =B15/B6 -> 0.015036639 | C24: =C15/C6 -> 0.038987794 | D24: =D15/D6 -> 0.05650246 | E24: =E15/E6 -> 0.040685297 | F24: =F15/F6 -> 0.041834272 | G24: =G15/G6 -> 0.048691999 | H24: =H15/H6 -> 0.046 | I24: =I15/I6 -> 0.047 | ... L24: =L15/L6 -> 0.048
A25: Taxi/PHV | B25: =B16/B7 -> 0.073112178 | C25: =C16/C7 -> 0.11607724 | D25: =D16/D7 -> 0.12058399 | E25: =E16/E7 -> 0.18566208 | F25: =F16/F7 -> 0.18071324 | G25: =G16/G7 -> 0.12988262 | H25: =H16/H7 -> 0.15 | I25: =I16/I7 -> 0.155 | ... L25: =L16/L7 -> 0.165
A26: Other Private Transport | B26: =B17/B8 -> 0.45858586 | C26: =C17/C8 -> 0.1623816 | D26: =D17/D8 -> -0.036120401 | E26: =E17/E8 -> -0.011126565 | F26: =F17/F8 -> 0.041605121 | G26: =G17/G8 -> 0.026107226 | H26: =H17/H8 -> 0.05 | I26: =I17/I8 -> 0.055 | ... L26: =L17/L8 -> 0.055
A27: Inspection & Testing | B27: =B18/B9 -> 0.13312034 | C27: =C18/C9 -> 0.1496388 | D27: =D18/D9 -> 0.30754717 | E27: =E18/E9 -> 0.30136986 | F27: =F18/F9 -> 0.2957265 | G27: =G18/G9 -> 0.2755102 | H27: =H18/H9 -> 0.27 | I27: =I18/I9 -> 0.26 | ... L27: =L18/L9 -> 0.25
A28: Other Segments | B28: =B19/B10 -> 0.062477687 | C28: =C19/C10 -> 0.065326633 | D28: =D19/D10 -> 0.15256257 | E28: =E19/E10 -> 0.14623656 | F28: =F19/F10 -> 0.062821833 | G28: =G19/G10 -> 0.081967213 | H28: =H19/H10 -> 0.06 | I28: =I19/I10 -> 0.06 | ... L28: =L19/L10 -> 0.06

Sheet Income_Statement
A1: COMFORTDELGRO CORPORATION LIMITED (SGX: C52)
A2: CONSOLIDATED INCOME STATEMENT
A4: (S$m) | B4: FY2020 | C4: FY2021 | D4: FY2022 | E4: FY2023 | F4: FY2024 | G4: 1H2025 | H4: FY2025E | I4: FY2026E | J4: FY2027E | K4: FY2028E | L4: FY2029E
A5: Revenue | B5: =Segment_Model!B11 -> 3242.6 | C5: =Segment_Model!C11 -> 3502.8 | D5: =Segment_Model!D11 -> 3780.8 | E5: =Segment_Model!E11 -> 3880.3 | F5: =Segment_Model!F11 -> 4476.5 | G5: =Segment_Model!G11 -> 2422.7 | H5: =Segment_Model!H11 -> 4962.642 | I5: =Segment_Model!I11 -> 5130.4094 | ... L5: =Segment_Model!L11 -> 5591.9348
A6: Total Operating Costs | B6: -3120.9 | C6: -3303 | D6: -3510.8 | E6: -3608.2 | F6: -4153.6 | G6: -2250.2 | H6: =-(H5-Segment_Model!H20) -> -4598.4695 | I6: =-(I5-Segment_Model!I20) -> -4744.45 | J6: =-(J5-Segment_Model!J20) -> -4878.31 | K6: =-(K5-Segment_Model!K20) -> -5013.6915 | L6: =-(L5-Segment_Model!L20) -> -5158.5254
A7: Operating Profit | B7: =B5+B6 -> 121.7 | C7: =C5+C6 -> 199.8 | D7: =D5+D6 -> 270 | E7: =E5+E6 -> 272.1 | F7: =F5+F6 -> 322.9 | G7: =G5+G6 -> 172.5 | H7: =Segment_Model!H20 -> 364.17252 | I7: =Segment_Model!I20 -> 385.95938 | J7: =Segment_Model!J20 -> 405.00146 | K7: =Segment_Model!K20 -> 421.72738 | L7: =Segment_Model!L20 -> 433.40937
A8: OP margin | B8: =B7/B5 -> 0.03753161 | C8: =C7/C5 -> 0.057040082 | D8: =D7/D5 -> 0.071413457 | E8: =E7/E5 -> 0.070123444 | F8: =F7/F5 -> 0.072132246 | G8: =G7/G5 -> 0.071201552 | H8: =H7/H5 -> 0.073382791 | I8: =I7/I5 -> 0.075229743 | ... L8: =L7/L5 -> 0.077506156
A9: D&A (memo) | B9: 432 | C9: 376.3 | D9: 357.2 | E9: 364.2 | F9: 368.4 | G9: 199.4 | H9: =Capex_and_DA!H13-Goodwill_and_Intangibles!H12 -> 410.36059 | I9: =Capex_and_DA!I13-Goodwill_and_Intangibles!I12 -> 393.78929 | J9: =Capex_and_DA!J13-Goodwill_and_Intangibles!J12 -> 380.21718 | K9: =Capex_and_DA!K13-Goodwill_and_Intangibles!K12 -> 380.6327 | L9: =Capex_and_DA!L13-Goodwill_and_Intangibles!L12 -> 382.60343
A10: EBITDA | B10: =B7+B9 -> 553.7 | C10: =C7+C9 -> 576.1 | D10: =D7+D9 -> 627.2 | E10: =E7+E9 -> 636.3 | F10: =F7+F9 -> 691.3 | G10: =G7+G9 -> 371.9 | H10: =H7+H9 -> 774.53311 | I10: =I7+I9 -> 779.74867 | ... L10: =L7+L9 -> 816.0128
A11: EBITDA margin | B11: =B10/B5 -> 0.17075803 | C11: =C10/C5 -> 0.16446843 | D11: =D10/D5 -> 0.16589082 | E11: =E10/E5 -> 0.16398217 | F11: =F10/F5 -> 0.15442868 | G11: =G10/G5 -> 0.15350642 | H11: =H10/H5 -> 0.15607274 | I11: =I10/I5 -> 0.15198566 | ... L11: =L10/L5 -> 0.14592674
A13: Net Income from Investments | B13: 8.8 | C13: 6.1 | D13: 15.2 | E13: 29.4 | F13: 31.7 | G13: 11 | H13: =Assumptions!H24 -> 28 | I13: =Assumptions!I24 -> 28 | J13: =Assumptions!J24 -> 28 | K13: =Assumptions!K24 -> 28 | L13: =Assumptions!L24 -> 28
A14: Finance Costs | B14: -14.7 | C14: -11.3 | D14: -13.3 | E14: -22.9 | F14: -38.9 | G14: -28.4 | H14: =Debt_and_Leases!H18 -> -49.629 | I14: =Debt_and_Leases!I18 -> -43.7958 | J14: =Debt_and_Leases!J18 -> -38.171 | K14: =Debt_and_Leases!K18 -> -35.896 | L14: =Debt_and_Leases!L18 -> -33.796
A15: Share of Associates/JVs | B15: 0 | C15: 0.1 | D15: 0.8 | E15: 1.4 | F15: 1.8 | G15: 1.1 | H15: =Assumptions!H25 -> 2.5 | I15: =Assumptions!I25 -> 3 | J15: =Assumptions!J25 -> 3 | K15: =Assumptions!K25 -> 3 | L15: =Assumptions!L25 -> 3
A16: Profit before Taxation | B16: =B7+B13+B14+B15 -> 115.8 | C16: =C7+C13+C14+C15 -> 194.7 | D16: =D7+D13+D14+D15 -> 272.7 | E16: =E7+E13+E14+E15 -> 280 | F16: =F7+F13+F14+F15 -> 317.5 | G16: =G7+G13+G14+G15 -> 156.2 | H16: =H7+H13+H14+H15 -> 345.04352 | I16: =I7+I13+I14+I15 -> 373.16358 | ... L16: =L7+L13+L14+L15 -> 430.61337
A17: Taxation | B17: -24.1 | C17: -41.8 | D17: -54.2 | E17: -55 | F17: -61.8 | G17: -31.3 | H17: =-H16*Assumptions!H22 -> -67.283486 | I17: =-I16*Assumptions!I22 -> -72.766898 | J17: =-J16*Assumptions!J22 -> -77.57694 | K17: =-K16*Assumptions!K22 -> -81.282118 | L17: =-L16*Assumptions!L22 -> -83.969607
A18: Profit after Taxation | B18: =B16+B17 -> 91.7 | C18: =C16+C17 -> 152.9 | D18: =D16+D17 -> 218.5 | E18: =E16+E17 -> 225 | F18: =F16+F17 -> 255.7 | G18: =G16+G17 -> 124.9 | H18: =H16+H17 -> 277.76003 | I18: =I16+I17 -> 300.39668 | ... L18: =L16+L17 -> 346.64376
A19: Attr. to NCI | B19: -30.9 | C19: -29.9 | D19: -45.4 | E19: -44.5 | F19: -45.2 | G19: -18.9 | H19: =-H18*Assumptions!H23 -> -44.441605 | I19: =-I18*Assumptions!I23 -> -45.059502 | J19: =-J18*Assumptions!J23 -> -48.038028 | K19: =-K18*Assumptions!K23 -> -50.332389 | L19: =-L18*Assumptions!L23 -> -51.996565
A20: PATMI | B20: =B18+B19 -> 60.8 | C20: =C18+C19 -> 123 | D20: =D18+D19 -> 173.1 | E20: =E18+E19 -> 180.5 | F20: =F18+F19 -> 210.5 | G20: =G18+G19 -> 106 | H20: =H18+H19 -> 233.31843 | I20: =I18+I19 -> 255.33718 | ... L20: =L18+L19 -> 294.6472
A22: KEY METRICS
A23: EPS (cents) | B23: 2.81 | C23: 5.68 | D23: 7.99 | E23: 8.33 | F23: 9.72 | G23: 4.89 | H23: =H20/Assumptions!H42*100 -> 10.768874 | I23: =I20/Assumptions!I42*100 -> 11.785156 | J23: =J20/Assumptions!J42*100 -> 12.564179 | K23: =K20/Assumptions!K42*100 -> 13.164261 | L23: =L20/Assumptions!L42*100 -> 13.59952
A24: DPS (cents) | B24: 1.43 | C24: 4.2 | D24: 8.48 | E24: 6.66 | F24: 7.77 | G24: 3.91 | H24: =H23*Assumptions!H40 -> 8.0766556 | I24: =I23*Assumptions!I40 -> 8.8388666 | J24: =J23*Assumptions!J40 -> 9.423134 | K24: =K23*Assumptions!K40 -> 9.8731954 | L24: =L23*Assumptions!L40 -> 10.19964
A25: Payout ratio | B25: =B24/B23 -> 0.5088968 | C25: =C24/C23 -> 0.73943662 | D25: =D24/D23 -> 1.0613267 | E25: =E24/E23 -> 0.79951981 | F25: =F24/F23 -> 0.79938272 | H25: =Assumptions!H40 -> 0.75 | I25: =Assumptions!I40 -> 0.75 | J25: =Assumptions!J40 -> 0.75 | K25: =Assumptions!K40 -> 0.75 | L25: =Assumptions!L40 -> 0.75
A26: Dividends to shareholders (S$m) | B26: -114.6 | C26: -76.5 | D26: -137.8 | E26: -154.2 | F26: -157.7 | H26: =-H20*Assumptions!H40 -> -174.98882 | I26: =-I20*Assumptions!I40 -> -191.50288 | J26: =-J20*Assumptions!J40 -> -204.16162 | K26: =-K20*Assumptions!K40 -> -213.91265 | L26: =-L20*Assumptions!L40 -> -220.9854
A27: Effective tax rate | B27: =-B17/B16 -> 0.20811744 | C27: =-C17/C16 -> 0.21468927 | D27: =-D17/D16 -> 0.19875321 | E27: =-E17/E16 -> 0.19642857 | F27: =-F17/F16 -> 0.19464567 | G27: =-G17/G16 -> 0.20038412 | H27: =-H17/H16 -> 0.195 | I27: =-I17/I16 -> 0.195 | ... L27: =-L17/L16 -> 0.195

Sheet Cash_Flow
A1: COMFORTDELGRO CORPORATION LIMITED (SGX: C52)
A2: CASH FLOW STATEMENT
A4: (S$m) | B4: FY2020 | C4: FY2021 | D4: FY2022 | E4: FY2023 | F4: FY2024 | G4: 1H2025 | H4: FY2025E | I4: FY2026E | J4: FY2027E | K4: FY2028E | L4: FY2029E
A5: OPERATING ACTIVITIES
A6: Profit after taxation | B6: 91.7 | C6: 152.9 | D6: 218.5 | E6: 225 | F6: 255.7 | G6: 124.9 | H6: =Income_Statement!H18 -> 277.76003 | I6: =Income_Statement!I18 -> 300.39668 | J6: =Income_Statement!J18 -> 320.25352 | K6: =Income_Statement!K18 -> 335.54926 | L6: =Income_Statement!L18 -> 346.64376
A7: + D&A | B7: 432 | C7: 376.3 | D7: 357.2 | E7: 364.2 | F7: 368.4 | G7: 199.4 | H7: =Income_Statement!H9 -> 410.36059 | I7: =Income_Statement!I9 -> 393.78929 | J7: =Income_Statement!J9 -> 380.21718 | K7: =Income_Statement!K9 -> 380.6327 | L7: =Income_Statement!L9 -> 382.60343
A8: +/- Other non-cash & adjustments | B8: 135.9 | C8: 95.6 | D8: 47.5 | E8: 67.9 | F8: 82.8 | H8: 55 | I8: 50 | J8: 45 | K8: 45 | L8: 45
A9: +/- Change in working capital | B9: -28.5 | C9: 106.1 | D9: 59 | E9: -125.5 | F9: -86.6 | H9: =Working_Capital!H10 -> 18.562795 | I9: =Working_Capital!I10 -> 18.652282 | J9: =Working_Capital!J10 -> 19.082833 | K9: =Working_Capital!K10 -> 5.0007917 | L9: =Working_Capital!L10 -> 5.1457311
A10: - Change in other current assets | H10: =-(Balance_Sheet!H9-Balance_Sheet!F9) -> 49.118013 | I10: =-(Balance_Sheet!I9-Balance_Sheet!H9) -> -2.4976588 | J10: =-(Balance_Sheet!J9-Balance_Sheet!I9) -> -2.2763495 | K10: =-(Balance_Sheet!K9-Balance_Sheet!J9) -> -2.2645191 | L10: =-(Balance_Sheet!L9-Balance_Sheet!K9) -> -2.3301524
A11: + Change in other liabilities | H11: =Balance_Sheet!H20-Balance_Sheet!F20 -> 81.004965 | I11: =Balance_Sheet!I20-Balance_Sheet!H20 -> 15.365021 | J11: =Balance_Sheet!J20-Balance_Sheet!I20 -> 14.003578 | K11: =Balance_Sheet!K20-Balance_Sheet!J20 -> 13.9308 | L11: =Balance_Sheet!L20-Balance_Sheet!K20 -> 14.334561
A12: - Tax paid | B12: -87.9 | C12: -67 | D12: -79.9 | E12: -82.5 | F12: -72.8 | H12: =Income_Statement!H17 -> -67.283486 | I12: =Income_Statement!I17 -> -72.766898 | J12: =Income_Statement!J17 -> -77.57694 | K12: =Income_Statement!K17 -> -81.282118 | L12: =Income_Statement!L17 -> -83.969607
A13: Net cash from operations (CFO) | B13: 544.3 | C13: 656.5 | D13: 602.3 | E13: 449.1 | F13: 547.5 | G13: 140.4 | H13: =SUM(H6:H12) -> 824.52291 | I13: =SUM(I6:I12) -> 702.93872 | J13: =SUM(J6:J12) -> 698.70382 | K13: =SUM(K6:K12) -> 696.56691 | L13: =SUM(L6:L12) -> 707.42772
A15: INVESTING ACTIVITIES
A16: Capex | B16: -198.5 | C16: -223.8 | D16: -302.4 | E16: -367.5 | F16: -445.1 | G16: -370.3 | H16: =-Capex_and_DA!H14 -> -421.82457 | I16: =-Capex_and_DA!I14 -> -410.43275 | J16: =-Capex_and_DA!J14 -> -396.24836 | K16: =-Capex_and_DA!K14 -> -407.65641 | L16: =-Capex_and_DA!L14 -> -419.39511
A17: Disposal proceeds | B17: 86.2 | C17: 33.9 | D17: 80.1 | E17: 44.1 | F17: 72.1 | H17: =-Capex_and_DA!H8 -> 50.618948 | I17: =-Capex_and_DA!I8 -> 41.043275 | J17: =-Capex_and_DA!J8 -> 39.624836 | K17: =-Capex_and_DA!K8 -> 40.765641 | L17: =-Capex_and_DA!L8 -> 41.939511
A18: Intangible additions | H18: =-Goodwill_and_Intangibles!H11 -> -25 | I18: =-Goodwill_and_Intangibles!I11 -> -25 | J18: =-Goodwill_and_Intangibles!J11 -> -25 | K18: =-Goodwill_and_Intangibles!K11 -> -25 | L18: =-Goodwill_and_Intangibles!L11 -> -25
A19: M&A / acquisitions | B19: -12 | C19: -19.7 | D19: -32.1 | E19: -11.8 | F19: -604.5 | G19: 0 | H19: =-Assumptions!H48 -> 0 | I19: =-Assumptions!I48 -> 0 | J19: =-Assumptions!J48 -> 0 | K19: =-Assumptions!K48 -> 0 | L19: =-Assumptions!L48 -> 0
A20: Net cash from investing | B20: -109.7 | C20: -199.4 | D20: -251 | E20: -330.5 | F20: -970.1 | G20: -344.5 | H20: =SUM(H16:H19) -> -396.20562 | I20: =SUM(I16:I19) -> -394.38947 | J20: =SUM(J16:J19) -> -381.62352 | K20: =SUM(K16:K19) -> -391.89077 | L20: =SUM(L16:L19) -> -402.4556
A22: FINANCING ACTIVITIES
A23: Net borrowings | B23: -116.6 | C23: -143.9 | D23: -50.1 | E23: 47.8 | F23: 722.2 | H23: =Debt_and_Leases!H7 -> -100 | I23: =Debt_and_Leases!I7 -> -80 | J23: =Debt_and_Leases!J7 -> -60 | K23: =Debt_and_Leases!K7 -> -50 | L23: =Debt_and_Leases!L7 -> -50
A24: Lease repayments | B24: -30.8 | C24: -30.6 | D24: -42.2 | E24: -45 | F24: -42.6 | H24: =Debt_and_Leases!H13 -> -60 | I24: =Debt_and_Leases!I13 -> -55 | J24: =Debt_and_Leases!J13 -> -55 | K24: =Debt_and_Leases!K13 -> -55 | L24: =Debt_and_Leases!L13 -> -55
A25: Dividends (shareholders) | B25: -114.6 | C25: -76.5 | D25: -137.8 | E25: -154.2 | F25: -157.7 | H25: =Income_Statement!H26 -> -174.98882 | I25: =Income_Statement!I26 -> -191.50288 | J25: =Income_Statement!J26 -> -204.16162 | K25: =Income_Statement!K26 -> -213.91265 | L25: =Income_Statement!L26 -> -220.9854
A26: Dividends (NCI) | B26: -29.8 | C26: -30.9 | D26: -33.5 | E26: -57.7 | F26: -32.6 | H26: =Assumptions!H41 -> -38 | I26: =Assumptions!I41 -> -35 | J26: =Assumptions!J41 -> -35 | K26: =Assumptions!K41 -> -35 | L26: =Assumptions!L41 -> -35
A27: Other financing | B27: -10 | C27: -4.1 | D27: -11.1 | E27: -14.1 | F27: -30.6 | H27: 0 | I27: 0 | J27: 0 | K27: 0 | L27: 0
A28: Net cash from financing | B28: -301.8 | C28: -287.2 | D28: -274.7 | E28: -224.1 | F28: 458.7 | G28: 188.1 | H28: =SUM(H23:H27) -> -372.98882 | I28: =SUM(I23:I27) -> -361.50288 | J28: =SUM(J23:J27) -> -354.16162 | K28: =SUM(K23:K27) -> -353.91265 | L28: =SUM(L23:L27) -> -360.9854
A29: FX effect on cash | B29: 15.8 | C29: 6.4 | D29: -28.7 | E29: -4.6 | F29: -0.6 | H29: =Assumptions!H49 -> -10 | I29: =Assumptions!I49 -> -10 | J29: =Assumptions!J49 -> -5 | K29: =Assumptions!K49 -> -5 | L29: =Assumptions!L49 -> -5
A30: Closing Cash | B30: 742.8 | C30: 919.1 | D30: 967 | E30: 856.9 | F30: 892.4 | G30: 873.1 | H30: =F30+H13+H20+H28+H29 -> 937.72847 | I30: =H30+I13+I20+I28+I29 -> 874.77482 | J30: =I30+J13+J20+J28+J29 -> 832.69351 | K30: =J30+K13+K20+K28+K29 -> 778.457 | L30: =K30+L13+L20+L28+L29 -> 717.44372
A32: Free Cash Flow (CFO - Capex) | B32: =B13+B16 -> 345.8 | C32: =C13+C16 -> 432.7 | D32: =D13+D16 -> 299.9 | E32: =E13+E16 -> 81.6 | F32: =F13+F16 -> 102.4 | H32: =H13+H16 -> 402.69834 | I32: =I13+I16 -> 292.50597 | J32: =J13+J16 -> 302.45547 | K32: =K13+K16 -> 288.9105 | L32: =L13+L16 -> 288.03261
A34: FREE CASH FLOW TO FIRM (FCFF) CALCULATION
A35: Operating Profit (EBIT) | H35: =Income_Statement!H7 -> 364.17252 | I35: =Income_Statement!I7 -> 385.95938 | J35: =Income_Statement!J7 -> 405.00146 | K35: =Income_Statement!K7 -> 421.72738 | L35: =Income_Statement!L7 -> 433.40937
A36: Taxes on EBIT | H36: =-H35*Assumptions!H22 -> -71.013641 | I36: =-I35*Assumptions!I22 -> -75.262079 | J36: =-J35*Assumptions!J22 -> -78.975285 | K36: =-K35*Assumptions!K22 -> -82.236838 | L36: =-L35*Assumptions!L22 -> -84.514827
A37: NOPAT | H37: =H35+H36 -> 293.15888 | I37: =I35+I36 -> 310.6973 | J37: =J35+J36 -> 326.02618 | K37: =K35+K36 -> 339.49054 | L37: =L35+L36 -> 348.89454
A38: + D&A | H38: =Income_Statement!H9 -> 410.36059 | I38: =Income_Statement!I9 -> 393.78929 | J38: =Income_Statement!J9 -> 380.21718 | K38: =Income_Statement!K9 -> 380.6327 | L38: =Income_Statement!L9 -> 382.60343
A39: - Capex | H39: =H16 -> -421.82457 | I39: =I16 -> -410.43275 | J39: =J16 -> -396.24836 | K39: =K16 -> -407.65641 | L39: =L16 -> -419.39511
A40: - Change in NWC | H40: =-Working_Capital!H10 -> -18.562795 | I40: =-Working_Capital!I10 -> -18.652282 | J40: =-Working_Capital!J10 -> -19.082833 | K40: =-Working_Capital!K10 -> -5.0007917 | L40: =-Working_Capital!L10 -> -5.1457311
A41: Unlevered Free Cash Flow (FCFF) | H41: =SUM(H37:H40) -> 263.1321 | I41: =SUM(I37:I40) -> 275.40156 | J41: =SUM(J37:J40) -> 290.91217 | K41: =SUM(K37:K40) -> 307.46603 | L41: =SUM(L37:L40) -> 306.95713

Sheet Balance_Sheet
A1: COMFORTDELGRO CORPORATION LIMITED (SGX: C52)
A2: CONSOLIDATED BALANCE SHEET
A4: (S$m) | B4: FY2020 | C4: FY2021 | D4: FY2022 | E4: FY2023 | F4: FY2024 | G4: 1H2025 | H4: FY2025E | I4: FY2026E | J4: FY2027E | K4: FY2028E | L4: FY2029E
A5: ASSETS
A6: Cash and short-term deposits | B6: 742.8 | C6: 919.1 | D6: 967 | E6: 856.9 | F6: 892.4 | G6: 873.1 | H6: =Cash_Flow!H30 -> 937.72847 | I6: =Cash_Flow!I30 -> 874.77482 | J6: =Cash_Flow!J30 -> 832.69351 | K6: =Cash_Flow!K30 -> 778.457 | L6: =Cash_Flow!L30 -> 717.44372
A7: Trade and other receivables | B7: 589 | C7: 569.8 | D7: 476.7 | E7: 532.7 | F7: 725.7 | H7: =Working_Capital!H6 -> 720.60281 | I7: =Working_Capital!I6 -> 730.90764 | J7: =Working_Capital!J6 -> 723.74129 | K7: =Working_Capital!K6 -> 744.57792 | L7: =Working_Capital!L6 -> 766.01847
A8: Inventories | B8: 127.9 | C8: 116.9 | D8: 120.1 | E8: 141.7 | F8: 158 | H8: =Working_Capital!H7 -> 176.75163 | I8: =Working_Capital!I7 -> 168.67099 | J8: =Working_Capital!J7 -> 173.69791 | K8: =Working_Capital!K7 -> 178.6987 | L8: =Working_Capital!L7 -> 183.84443
A9: Other current assets | B9: 0 | C9: 14.8 | D9: =Historical_Financials!D28 -> 80.9 | E9: =Historical_Financials!E28 -> 82.8 | F9: =Historical_Financials!F28 -> 123 | H9: =Income_Statement!H5*Assumptions!H31 -> 73.881987 | I9: =Income_Statement!I5*Assumptions!I31 -> 76.379645 | J9: =Income_Statement!J5*Assumptions!J31 -> 78.655995 | K9: =Income_Statement!K5*Assumptions!K31 -> 80.920514 | L9: =Income_Statement!L5*Assumptions!L31 -> 83.250666
A10: PP&E | B10: 2337.5 | C10: 2191.9 | D10: 2038.4 | E10: 2012.1 | F10: 2129.6 | G10: 2136.2 | H10: =Capex_and_DA!H11 -> 2110.445 | I10: =Capex_and_DA!I11 -> 2106.0452 | J10: =Capex_and_DA!J11 -> 2102.4516 | K10: =Capex_and_DA!K11 -> 2108.7096 | L10: =Capex_and_DA!L11 -> 2123.5618
A11: Goodwill | B11: 659.4 | C11: 646.9 | D11: 614.5 | E11: 616.9 | F11: 1104 | G11: 1077.4 | H11: =Goodwill_and_Intangibles!H7 -> 1104 | I11: =Goodwill_and_Intangibles!I7 -> 1104 | J11: =Goodwill_and_Intangibles!J7 -> 1104 | K11: =Goodwill_and_Intangibles!K7 -> 1104 | L11: =Goodwill_and_Intangibles!L7 -> 1104
A12: Intangible assets | B12: 210.6 | C12: 220 | D12: 201.8 | E12: 205.7 | F12: 354.2 | G12: 390.7 | H12: =Goodwill_and_Intangibles!H13 -> 359.2 | I12: =Goodwill_and_Intangibles!I13 -> 364.2 | J12: =Goodwill_and_Intangibles!J13 -> 369.2 | K12: =Goodwill_and_Intangibles!K13 -> 374.2 | L12: =Goodwill_and_Intangibles!L13 -> 379.2
A13: Other non-current assets | B13: 259.8 | C13: 235 | D13: =Historical_Financials!D16-D6-D7-D8-D9-D10-D11-D12 -> 202.5 | E13: =Historical_Financials!E16-E6-E7-E8-E9-E10-E11-E12 -> 240.9 | F13: =Historical_Financials!F16-F6-F7-F8-F9-F10-F11-F12 -> 238.9 | H13: =H28-H6-H7-H8-H9-H10-H11-H12 -> 313.38349 | I13: =I28-I6-I7-I8-I9-I10-I11-I12 -> 391.15038 | J13: =J28-J6-J7-J8-J9-J10-J11-J12 -> 473.72732 | K13: =K28-K6-K7-K8-K9-K10-K11-K12 -> 560.00944 | L13: =L28-L6-L7-L8-L9-L10-L11-L12 -> 648.97905
A14: Total Assets | B14: =SUM(B6:B13) -> 4927 | C14: =SUM(C6:C13) -> 4914.4 | D14: =SUM(D6:D13) -> 4701.9 | E14: =SUM(E6:E13) -> 4689.7 | F14: =SUM(F6:F13) -> 5725.8 | H14: =SUM(H6:H13) -> 5795.9934 | I14: =SUM(I6:I13) -> 5816.1287 | J14: =SUM(J6:J13) -> 5858.1676 | K14: =SUM(K6:K13) -> 5929.5732 | L14: =SUM(L6:L13) -> 6006.2981
A16: LIABILITIES | B16: 463.7 | C16: 341
A17: Borrowings | B17: 463.7 | C17: 341 | D17: 292.2 | E17: 350.3 | F17: 1081.6 | H17: =Debt_and_Leases!H8 -> 981.6 | I17: =Debt_and_Leases!I8 -> 901.6 | J17: =Debt_and_Leases!J8 -> 841.6 | K17: =Debt_and_Leases!K8 -> 791.6 | L17: =Debt_and_Leases!L8 -> 741.6
A18: Lease liabilities (IFRS 16) | B18: 188.9 | C18: 218.7 | D18: 189.5 | E18: 168.8 | F18: 244 | H18: =Debt_and_Leases!H14 -> 234 | I18: =Debt_and_Leases!I14 -> 224 | J18: =Debt_and_Leases!J14 -> 214 | K18: =Debt_and_Leases!K14 -> 204 | L18: =Debt_and_Leases!L14 -> 194
A19: Trade and other payables | B19: 675 | C19: 775.6 | D19: 832.2 | E19: 807.4 | F19: 1001.1 | H19: =Working_Capital!H8 -> 1033.3172 | I19: =Working_Capital!I8 -> 1054.1937 | J19: =Working_Capital!J8 -> 1071.1371 | K19: =Working_Capital!K8 -> 1101.9753 | L19: =Working_Capital!L8 -> 1133.7073
A20: Other liabilities | B20: 552.2 | C20: 470.7 | D20: =Historical_Financials!D33 -> 383 | E20: =Historical_Financials!E33 -> 349.3 | F20: =Historical_Financials!F33 -> 373.5 | H20: =Income_Statement!H5*Assumptions!H32 -> 454.50496 | I20: =Income_Statement!I5*Assumptions!I32 -> 469.86999 | J20: =Income_Statement!J5*Assumptions!J32 -> 483.87356 | K20: =Income_Statement!K5*Assumptions!K32 -> 497.80436 | L20: =Income_Statement!L5*Assumptions!L32 -> 512.13893
A21: Total Liabilities | B21: =SUM(B17:B20) -> 1879.8 | C21: =SUM(C17:C20) -> 1806 | D21: =SUM(D17:D20) -> 1696.9 | E21: =SUM(E17:E20) -> 1675.8 | F21: =SUM(F17:F20) -> 2700.2 | H21: =SUM(H17:H20) -> 2703.4222 | I21: =SUM(I17:I20) -> 2649.6637 | J21: =SUM(J17:J20) -> 2610.6107 | K21: =SUM(K17:K20) -> 2595.3797 | L21: =SUM(L17:L20) -> 2581.4463
A23: EQUITY
A24: Share capital & reserves | B24: =Historical_Financials!B18-B25-B26 -> 732.8 | C24: =Historical_Financials!C18-C25-C26 -> 740.8 | D24: =Historical_Financials!D18-D25-D26 -> 595.6 | E24: 593 | F24: 589.3 | H24: =Equity_and_Dividends!H8 -> 589.3 | I24: =Equity_and_Dividends!I8 -> 589.3 | J24: =Equity_and_Dividends!J8 -> 589.3 | K24: =Equity_and_Dividends!K8 -> 589.3 | L24: =Equity_and_Dividends!L8 -> 589.3
A25: Retained earnings | B25: 1892.4 | C25: 1937.8 | D25: 1977.9 | E25: 2004.7 | F25: 2009.7 | H25: =Equity_and_Dividends!H15 -> 2068.0296 | I25: =Equity_and_Dividends!I15 -> 2131.8639 | J25: =Equity_and_Dividends!J15 -> 2199.9178 | K25: =Equity_and_Dividends!K15 -> 2271.222 | L25: =Equity_and_Dividends!L15 -> 2344.8838
A26: NCI | B26: 422 | C26: 429.8 | D26: 431.5 | E26: 416.2 | F26: 426.6 | H26: =Equity_and_Dividends!H21 -> 435.24161 | I26: =Equity_and_Dividends!I21 -> 445.30111 | J26: =Equity_and_Dividends!J21 -> 458.33914 | K26: =Equity_and_Dividends!K21 -> 473.67152 | L26: =Equity_and_Dividends!L21 -> 490.66809
A27: Total Equity | B27: =B24+B25+B26 -> 3047.2 | C27: =C24+C25+C26 -> 3108.4 | D27: =D24+D25+D26 -> 3005 | E27: =E24+E25+E26 -> 3013.9 | F27: =F24+F25+F26 -> 3025.6 | H27: =H24+H25+H26 -> 3092.5712 | I27: =I24+I25+I26 -> 3166.465 | J27: =J24+J25+J26 -> 3247.5569 | K27: =K24+K25+K26 -> 3334.1935 | L27: =L24+L25+L26 -> 3424.8519
A28: Total Liabilities + Equity | B28: =B21+B27 -> 4927 | C28: =C21+C27 -> 4914.4 | D28: =D21+D27 -> 4701.9 | E28: =E21+E27 -> 4689.7 | F28: =F21+F27 -> 5725.8 | H28: =H21+H27 -> 5795.9934 | I28: =I21+I27 -> 5816.1287 | J28: =J21+J27 -> 5858.1676 | K28: =K21+K27 -> 5929.5732 | L28: =L21+L27 -> 6006.2981
A29: BS Check (Assets - Liabilities - Equity) | B29: =B14-B21-B27 -> 0 | C29: =C14-C21-C27 -> 0 | D29: =D14-D21-D27 -> 0 | E29: =E14-E21-E27 -> 0 | F29: =F14-F21-F27 -> 0 | H29: =H14-H21-H27 -> 0 | I29: =I14-I21-I27 -> 0 | J29: =J14-J21-J27 -> 0 | K29: =K14-K21-K27 -> 0 | L29: =L14-L21-L27 -> 0
A30: Balance Check (Assets - L&E) | B30: =B14-B28 -> 0 | C30: =C14-C28 -> 0 | D30: =D14-D28 -> 0 | E30: =E14-E28 -> 0 | F30: =F14-F28 -> 0 | H30: =H14-H28 -> 0 | I30: =I14-I28 -> 0 | J30: =J14-J28 -> 0 | K30: =K14-K28 -> 0 | L30: =L14-L28 -> 0

Sheet Debt_and_Leases
A1: COMFORTDELGRO CORPORATION LIMITED (SGX: C52)
A2: DEBT & LEASES SCHEDULE
A4: (S$m) | B4: FY2020 | C4: FY2021 | D4: FY2022 | E4: FY2023 | F4: FY2024 | G4: 1H2025 | H4: FY2025E | I4: FY2026E | J4: FY2027E | K4: FY2028E | L4: FY2029E
A5: BORROWINGS
A6: Opening borrowings | B6: 530 | C6: =B8 -> 463.7 | D6: =C8 -> 341 | E6: =D8 -> 292.2 | F6: =E8 -> 350.3 | G6: 1081.6 | H6: =F8 -> 1081.6 | I6: =H8 -> 981.6 | J6: =I8 -> 901.6 | K6: =J8 -> 841.6 | L6: =K8 -> 791.6
A7: Net change in borrowings | B7: =C6-B6 -> -66.3 | C7: =D6-C6 -> -122.7 | D7: =E6-D6 -> -48.8 | E7: =F6-E6 -> 58.1 | F7: =F8-F6 -> 731.3 | H7: =Assumptions!H35 -> -100 | I7: =Assumptions!I35 -> -80 | J7: =Assumptions!J35 -> -60 | K7: =Assumptions!K35 -> -50 | L7: =Assumptions!L35 -> -50
A8: Closing borrowings | B8: 463.7 | C8: 341 | D8: 292.2 | E8: 350.3 | F8: 1081.6 | H8: =H6+H7 -> 981.6 | I8: =I6+I7 -> 901.6 | J8: =J6+J7 -> 841.6 | K8: =K6+K7 -> 791.6 | L8: =L6+L7 -> 741.6
A10: LEASE LIABILITIES (IFRS 16)
A11: Opening lease liabilities | B11: 203.7 | C11: =B14 -> 188.9 | D11: =C14 -> 218.7 | E11: =D14 -> 189.5 | F11: =E14 -> 168.8 | G11: 244 | H11: =F14 -> 244 | I11: =H14 -> 234 | J11: =I14 -> 224 | K11: =J14 -> 214 | L11: =K14 -> 204
A12: New lease additions | H12: =Assumptions!H37 -> 50 | I12: =Assumptions!I37 -> 45 | J12: =Assumptions!J37 -> 45 | K12: =Assumptions!K37 -> 45 | L12: =Assumptions!L37 -> 45
A13: Lease repayments | B13: -30.8 | C13: -30.6 | D13: -42.2 | E13: -45 | F13: -42.6 | H13: =Assumptions!H36 -> -60 | I13: =Assumptions!I36 -> -55 | J13: =Assumptions!J36 -> -55 | K13: =Assumptions!K36 -> -55 | L13: =Assumptions!L36 -> -55
A14: Closing lease liabilities | B14: 188.9 | C14: 218.7 | D14: 189.5 | E14: 168.8 | F14: 244 | H14: =H11+H12+H13 -> 234 | I14: =I11+I12+I13 -> 224 | J14: =J11+J12+J13 -> 214 | K14: =K11+K12+K13 -> 204 | L14: =L11+L12+L13 -> 194
A16: TOTAL DEBT
A17: Total debt (borrowings + leases) | B17: =B8+B14 -> 652.6 | C17: =C8+C14 -> 559.7 | D17: =D8+D14 -> 481.7 | E17: =E8+E14 -> 519.1 | F17: =F8+F14 -> 1325.6 | H17: =H8+H14 -> 1215.6 | I17: =I8+I14 -> 1125.6 | J17: =J8+J14 -> 1055.6 | K17: =K8+K14 -> 995.6 | L17: =L8+L14 -> 935.6
A18: Finance costs (interest expense) | B18: -14.7 | C18: -11.3 | D18: -13.3 | E18: -22.9 | F18: -38.9 | G18: -28.4 | H18: =-(((H6+H8)/2)*Assumptions!H33+((H11+H14)/2)*Assumptions!H34) -> -49.629 | I18: =-(((I6+I8)/2)*Assumptions!I33+((I11+I14)/2)*Assumptions!I34) -> -43.7958 | J18: =-(((J6+J8)/2)*Assumptions!J33+((J11+J14)/2)*Assumptions!J34) -> -38.171 | K18: =-(((K6+K8)/2)*Assumptions!K33+((K11+K14)/2)*Assumptions!K34) -> -35.896 | L18: =-(((L6+L8)/2)*Assumptions!L33+((L11+L14)/2)*Assumptions!L34) -> -33.796
A19: o/w borrowing interest | H19: =-((H6+H8)/2)*Assumptions!H33 -> -41.264 | I19: =-((I6+I8)/2)*Assumptions!I33 -> -35.7808 | J19: =-((J6+J8)/2)*Assumptions!J33 -> -30.506 | K19: =-((K6+K8)/2)*Assumptions!K33 -> -28.581 | L19: =-((L6+L8)/2)*Assumptions!L33 -> -26.831
A20: o/w lease interest | H20: =-((H11+H14)/2)*Assumptions!H34 -> -8.365 | I20: =-((I11+I14)/2)*Assumptions!I34 -> -8.015 | J20: =-((J11+J14)/2)*Assumptions!J34 -> -7.665 | K20: =-((K11+K14)/2)*Assumptions!K34 -> -7.315 | L20: =-((L11+L14)/2)*Assumptions!L34 -> -6.965
A21: Net debt / (Net cash) | B21: =B17-Balance_Sheet!B6 -> -90.2 | C21: =C17-Balance_Sheet!C6 -> -359.4 | D21: =D17-Balance_Sheet!D6 -> -485.3 | E21: =E17-Balance_Sheet!E6 -> -337.8 | F21: =F17-Balance_Sheet!F6 -> 433.2 | H21: =H17-Balance_Sheet!H6 -> 277.87153 | I21: =I17-Balance_Sheet!I6 -> 250.82518 | J21: =J17-Balance_Sheet!J6 -> 222.90649 | K21: =K17-Balance_Sheet!K6 -> 217.143 | L21: =L17-Balance_Sheet!L6 -> 218.15628

Sheet Equity_and_Dividends
A1: ComfortDelGro Corporation Limited — Equity & Dividends Schedule
A3: (S$m unless noted) | B3: FY2020 | C3: FY2021 | D3: FY2022 | E3: FY2023 | F3: FY2024 | G3: 1H2025A | H3: FY2025E | I3: FY2026E | J3: FY2027E | K3: FY2028E | L3: FY2029E
A4: SHARE CAPITAL & RESERVES
A5: Share capital | B5: 693.4 | C5: 694.4 | D5: 694.4 | E5: 694.4 | F5: 694.4 | H5: =F5 -> 694.4 | I5: =H5 -> 694.4 | J5: =I5 -> 694.4 | K5: =J5 -> 694.4 | L5: =K5 -> 694.4
A6: Treasury shares | B6: -0.2 | C6: -0.7 | D6: -1.8 | E6: -2 | F6: -1.6 | H6: =F6 -> -1.6 | I6: =H6 -> -1.6 | J6: =I6 -> -1.6 | K6: =J6 -> -1.6 | L6: =K6 -> -1.6
A7: Other reserves & FCTR | B7: 39.6 | C7: 47.1 | D7: -97 | E7: -99.4 | F7: -103.5 | H7: =F7 -> -103.5 | I7: =H7 -> -103.5 | J7: =I7 -> -103.5 | K7: =J7 -> -103.5 | L7: =K7 -> -103.5
A8: Share capital & reserves | B8: =B5+B6+B7 -> 732.8 | C8: =C5+C6+C7 -> 740.8 | D8: =D5+D6+D7 -> 595.6 | E8: =E5+E6+E7 -> 593 | F8: =F5+F6+F7 -> 589.3 | H8: =H5+H6+H7 -> 589.3 | I8: =I5+I6+I7 -> 589.3 | J8: =J5+J6+J7 -> 589.3 | K8: =K5+K6+K7 -> 589.3 | L8: =L5+L6+L7 -> 589.3
A10: RETAINED EARNINGS ROLL-FORWARD
A11: Opening retained earnings | B11: 1831.6 | C11: 1892.4 | D11: 1937.8 | E11: 1977.9 | F11: 2004.7 | H11: =F15 -> 2009.7 | I11: =H15 -> 2068.0296 | J11: =I15 -> 2131.8639 | K11: =J15 -> 2199.9178 | L11: =K15 -> 2271.222
A12: + PATMI | B12: 60.8 | C12: 123 | D12: 173.1 | E12: 180.5 | F12: 210.5 | H12: =Income_Statement!H20 -> 233.31843 | I12: =Income_Statement!I20 -> 255.33718 | J12: =Income_Statement!J20 -> 272.21549 | K12: =Income_Statement!K20 -> 285.21687 | L12: =Income_Statement!L20 -> 294.6472
A13: - Dividends paid (shareholders) | B13: 0 | C13: -76.5 | D13: -137.8 | E13: -154.2 | F13: -157.7 | H13: =Income_Statement!H26 -> -174.98882 | I13: =Income_Statement!I26 -> -191.50288 | J13: =Income_Statement!J26 -> -204.16162 | K13: =Income_Statement!K26 -> -213.91265 | L13: =Income_Statement!L26 -> -220.9854
A14: +/- Other (transfers, ESAS) | B14: 0 | C14: -1.1 | D14: 4.8 | E14: 0.5 | F14: -47.8 | H14: 0 | I14: 0 | J14: 0 | K14: 0 | L14: 0
A15: Closing retained earnings | B15: =B11+B12+B13+B14 -> 1892.4 | C15: =C11+C12+C13+C14 -> 1937.8 | D15: =D11+D12+D13+D14 -> 1977.9 | E15: =E11+E12+E13+E14 -> 2004.7 | F15: =F11+F12+F13+F14 -> 2009.7 | H15: =H11+H12+H13+H14 -> 2068.0296 | I15: =I11+I12+I13+I14 -> 2131.8639 | J15: =J11+J12+J13+J14 -> 2199.9178 | K15: =K11+K12+K13+K14 -> 2271.222 | L15: =L11+L12+L13+L14 -> 2344.8838
A17: NCI ROLL-FORWARD
A18: Opening NCI | B18: 391.1 | C18: =B21 -> 392.2 | D18: =C21 -> 391.2 | E18: =D21 -> 403.1 | F18: 416.2 | H18: =F21 -> 428.8 | I18: =H21 -> 435.24161 | J18: =I21 -> 445.30111 | K18: =J21 -> 458.33914 | L18: =K21 -> 473.67152
A19: + NCI share of PAT | B19: 30.9 | C19: 29.9 | D19: 45.4 | E19: 44.5 | F19: 45.2 | H19: =-Income_Statement!H19 -> 44.441605 | I19: =-Income_Statement!I19 -> 45.059502 | J19: =-Income_Statement!J19 -> 48.038028 | K19: =-Income_Statement!K19 -> 50.332389 | L19: =-Income_Statement!L19 -> 51.996565
A20: - NCI Dividends | B20: -29.8 | C20: -30.9 | D20: -33.5 | E20: -57.7 | F20: -32.6 | H20: =Assumptions!H41 -> -38 | I20: =Assumptions!I41 -> -35 | J20: =Assumptions!J41 -> -35 | K20: =Assumptions!K41 -> -35 | L20: =Assumptions!L41 -> -35
A21: Closing NCI | B21: =B18+B19+B20 -> 392.2 | C21: =C18+C19+C20 -> 391.2 | D21: =D18+D19+D20 -> 403.1 | E21: =E18+E19+E20 -> 389.9 | F21: =F18+F19+F20 -> 428.8 | H21: =H18+H19+H20 -> 435.24161 | I21: =I18+I19+I20 -> 445.30111 | J21: =J18+J19+J20 -> 458.33914 | K21: =K18+K19+K20 -> 473.67152 | L21: =L18+L19+L20 -> 490.66809
A23: TOTAL EQUITY | B23: =B8+B15+B21 -> 3017.4 | C23: =C8+C15+C21 -> 3069.8 | D23: =D8+D15+D21 -> 2976.6 | E23: =E8+E15+E21 -> 2987.6 | F23: =F8+F15+F21 -> 3027.8 | H23: =H8+H15+H21 -> 3092.5712 | I23: =I8+I15+I21 -> 3166.465 | J23: =J8+J15+J21 -> 3247.5569 | K23: =K8+K15+K21 -> 3334.1935 | L23: =L8+L15+L21 -> 3424.8519

Sheet Goodwill_and_Intangibles
A1: ComfortDelGro Corporation Limited — Goodwill & Intangibles Schedule
A3: (S$m) | B3: FY2020 | C3: FY2021 | D3: FY2022 | E3: FY2023 | F3: FY2024 | G3: 1H2025A | H3: FY2025E | I3: FY2026E | J3: FY2027E | K3: FY2028E | L3: FY2029E
A4: GOODWILL
A5: Opening goodwill | B5: 663.3 | C5: 659.4 | D5: 646.9 | E5: 614.5 | F5: 616.9 | G5: 1104 | H5: =F7 -> 1104 | I5: =H7 -> 1104 | J5: =I7 -> 1104 | K5: =J7 -> 1104 | L5: =K7 -> 1104
A6: Acquisitions | B6: 0 | C6: 0 | D6: 0 | E6: 2.4 | F6: 534.3 | G6: 0 | H6: 0 | I6: 0 | J6: 0 | K6: 0 | L6: 0
A7: Closing goodwill | B7: 659.4 | C7: 646.9 | D7: 614.5 | E7: 616.9 | F7: 1104 | G7: 1077.4 | H7: =H5+H6 -> 1104 | I7: =I5+I6 -> 1104 | J7: =J5+J6 -> 1104 | K7: =K5+K6 -> 1104 | L7: =L5+L6 -> 1104
A9: INTANGIBLE ASSETS
A10: Opening intangibles | B10: 210 | C10: 210.6 | D10: 220 | E10: 201.8 | F10: 205.7 | G10: 354.2 | H10: =F13 -> 354.2 | I10: =H13 -> 359.2 | J10: =I13 -> 364.2 | K10: =J13 -> 369.2 | L10: =K13 -> 374.2
A11: Additions / acquisitions | B11: 1.3 | C11: 1.9 | D11: 2.2 | E11: 11 | F11: 152.5 | G11: 40 | H11: 25 | I11: 25 | J11: 25 | K11: 25 | L11: 25
A12: Amortisation | B12: -0.7 | C12: -12.4 | D12: -20.4 | E12: -7 | F12: -8.3 | G12: -3.5 | H12: -20 | I12: -20 | J12: -20 | K12: -20 | L12: -20
A13: Closing intangibles | B13: 210.6 | C13: 220 | D13: 201.8 | E13: 205.7 | F13: 354.2 | G13: 390.7 | H13: =H10+H11+H12 -> 359.2 | I13: =I10+I11+I12 -> 364.2 | J13: =J10+J11+J12 -> 369.2 | K13: =K10+K11+K12 -> 374.2 | L13: =L10+L11+L12 -> 379.2

Sheet Working_Capital
A1: COMFORTDELGRO CORPORATION LIMITED (SGX: C52)
A2: WORKING CAPITAL
A4: (S$m) | B4: FY2020 | C4: FY2021 | D4: FY2022 | E4: FY2023 | F4: FY2024 | G4: 1H2025 | H4: FY2025E | I4: FY2026E | J4: FY2027E | K4: FY2028E | L4: FY2029E
A5: WORKING CAPITAL ITEMS
A6: Trade and other receivables | B6: 589 | C6: 569.8 | D6: 476.7 | E6: 532.7 | F6: 725.7 | H6: =Income_Statement!H5*Assumptions!H28/365 -> 720.60281 | I6: =Income_Statement!I5*Assumptions!I28/365 -> 730.90764 | J6: =Income_Statement!J5*Assumptions!J28/365 -> 723.74129 | K6: =Income_Statement!K5*Assumptions!K28/365 -> 744.57792 | L6: =Income_Statement!L5*Assumptions!L28/365 -> 766.01847
A7: Inventories | B7: 127.9 | C7: 116.9 | D7: 120.1 | E7: 141.7 | F7: 158 | H7: =Income_Statement!H5*Assumptions!H29/365 -> 176.75163 | I7: =Income_Statement!I5*Assumptions!I29/365 -> 168.67099 | J7: =Income_Statement!J5*Assumptions!J29/365 -> 173.69791 | K7: =Income_Statement!K5*Assumptions!K29/365 -> 178.6987 | L7: =Income_Statement!L5*Assumptions!L29/365 -> 183.84443
A8: Trade and other payables | B8: 675 | C8: 775.6 | D8: 832.2 | E8: 807.4 | F8: 1001.1 | H8: =Income_Statement!H5*Assumptions!H30/365 -> 1033.3172 | I8: =Income_Statement!I5*Assumptions!I30/365 -> 1054.1937 | J8: =Income_Statement!J5*Assumptions!J30/365 -> 1071.1371 | K8: =Income_Statement!K5*Assumptions!K30/365 -> 1101.9753 | L8: =Income_Statement!L5*Assumptions!L30/365 -> 1133.7073
A9: Net working capital | B9: =B6+B7-B8 -> 41.9 | C9: =C6+C7-C8 -> -88.9 | D9: =D6+D7-D8 -> -235.4 | E9: =E6+E7-E8 -> -133 | F9: =F6+F7-F8 -> -117.4 | H9: =H6+H7-H8 -> -135.96279 | I9: =I6+I7-I8 -> -154.61508 | J9: =J6+J7-J8 -> -173.69791 | K9: =K6+K7-K8 -> -178.6987 | L9: =L6+L7-L8 -> -183.84443
A10: Change in NWC (neg = cash outflow) | C10: =-(C9-B9) -> 130.8 | D10: =-(D9-C9) -> 146.5 | E10: =-(E9-D9) -> -102.4 | F10: =-(F9-E9) -> -15.6 | H10: =-(H9-F9) -> 18.562795 | I10: =-(I9-H9) -> 18.652282 | J10: =-(J9-I9) -> 19.082833 | K10: =-(K9-J9) -> 5.0007917 | L10: =-(L9-K9) -> 5.1457311
A12: Working Capital / Revenue | B12: =B9/Income_Statement!B5 -> 0.012921729 | C12: =C9/Income_Statement!C5 -> -0.025379696 | D12: =D9/Income_Statement!D5 -> -0.062261955 | E12: =E9/Income_Statement!E5 -> -0.0342757 | F12: =F9/Income_Statement!F5 -> -0.026225846 | H12: =H9/Income_Statement!H5 -> -0.02739726 | I12: =I9/Income_Statement!I5 -> -0.030136986 | J12: =J9/Income_Statement!J5 -> -0.032876712 | K12: =K9/Income_Statement!K5 -> -0.032876712 | L12: =L9/Income_Statement!L5 -> -0.032876712

Sheet Capex_and_DA
A1: COMFORTDELGRO CORPORATION LIMITED (SGX: C52)
A2: CAPEX & DEPRECIATION SCHEDULE
A4: (S$m) | B4: FY2020 | C4: FY2021 | D4: FY2022 | E4: FY2023 | F4: FY2024 | G4: 1H2025 | H4: FY2025E | I4: FY2026E | J4: FY2027E | K4: FY2028E | L4: FY2029E
A5: PP&E ROLL-FORWARD
A6: Opening PP&E | B6: 2439.3 | C6: =B11 -> 2337.5 | D6: =C11 -> 2191.9 | E6: =D11 -> 2038.4 | F6: =E11 -> 2012.1 | G6: 2129.6 | H6: =F11 -> 2129.6 | I6: =H11 -> 2110.445 | J6: =I11 -> 2106.0452 | K6: =J11 -> 2102.4516 | L6: =K11 -> 2108.7096
A7: + Capex | B7: 198.5 | C7: 223.8 | D7: 302.4 | E7: 367.5 | F7: 445.1 | G7: 370.3 | H7: =Income_Statement!H5*Assumptions!H21 -> 421.82457 | I7: =Income_Statement!I5*Assumptions!I21 -> 410.43275 | J7: =Income_Statement!J5*Assumptions!J21 -> 396.24836 | K7: =Income_Statement!K5*Assumptions!K21 -> 407.65641 | L7: =Income_Statement!L5*Assumptions!L21 -> 419.39511
A8: - Disposals | B8: -86.2 | C8: -33.9 | D8: -80.1 | E8: -44.1 | F8: -72.1 | G8: 0 | H8: =-H7*Assumptions!H47 -> -50.618948 | I8: =-I7*Assumptions!I47 -> -41.043275 | J8: =-J7*Assumptions!J47 -> -39.624836 | K8: =-K7*Assumptions!K47 -> -40.765641 | L8: =-L7*Assumptions!L47 -> -41.939511
A9: - Depreciation | B9: -432 | C9: -376.3 | D9: -357.2 | E9: -364.2 | F9: -368.4 | G9: -199.4 | H9: =-Assumptions!H20*(H6+H6+H7-H8)/2 -> -390.36059 | I9: =-Assumptions!I20*(I6+I6+I7-I8)/2 -> -373.78929 | J9: =-Assumptions!J20*(J6+J6+J7-J8)/2 -> -360.21718 | K9: =-Assumptions!K20*(K6+K6+K7-K8)/2 -> -360.6327 | L9: =-Assumptions!L20*(L6+L6+L7-L8)/2 -> -362.60343
A10: + Acquisitions/Adjustments | B10: 217.9 | C10: 40.8 | D10: -18.6 | E10: 14.5 | F10: 112.9 | G10: -164.3 | H10: 0 | I10: 0 | J10: 0 | K10: 0 | L10: 0
A11: Closing PP&E | B11: 2337.5 | C11: 2191.9 | D11: 2038.4 | E11: 2012.1 | F11: 2129.6 | G11: 2136.2 | H11: =H6+H7+H8+H9+H10 -> 2110.445 | I11: =I6+I7+I8+I9+I10 -> 2106.0452 | J11: =J6+J7+J8+J9+J10 -> 2102.4516 | K11: =K6+K7+K8+K9+K10 -> 2108.7096 | L11: =L6+L7+L8+L9+L10 -> 2123.5618
A13: Depreciation (D&A) | B13: 432 | C13: 376.3 | D13: 357.2 | E13: 364.2 | F13: 368.4 | G13: 199.4 | H13: =-H9 -> 390.36059 | I13: =-I9 -> 373.78929 | J13: =-J9 -> 360.21718 | K13: =-K9 -> 360.6327 | L13: =-L9 -> 362.60343
A14: Capex | B14: 198.5 | C14: 223.8 | D14: 302.4 | E14: 367.5 | F14: 445.1 | G14: 370.3 | H14: =H7 -> 421.82457 | I14: =I7 -> 410.43275 | J14: =J7 -> 396.24836 | K14: =K7 -> 407.65641 | L14: =L7 -> 419.39511
A15: Capex / Revenue

Sheet Valuation
A1: COMFORTDELGRO CORPORATION LIMITED (SGX: C52)
A2: VALUATION
A4: DCF VALUATION
A5: (S$m) | B5: FY2025E | C5: FY2026E | D5: FY2027E | E5: FY2028E | F5: FY2029E
A6: Unlevered FCF (FCFF) | B6: =Cash_Flow!H41 -> 263.1321 | C6: =Cash_Flow!I41 -> 275.40156 | D6: =Cash_Flow!J41 -> 290.91217 | E6: =Cash_Flow!K41 -> 307.46603 | F6: =Cash_Flow!L41 -> 306.95713
A7: Discount factor | B7: =1/(1+Assumptions!G45)^1 -> 0.92592593 | C7: =1/(1+Assumptions!G45)^2 -> 0.85733882 | D7: =1/(1+Assumptions!G45)^3 -> 0.79383224 | E7: =1/(1+Assumptions!G45)^4 -> 0.73502985 | F7: =1/(1+Assumptions!G45)^5 -> 0.6805832
A8: PV of FCF | B8: =B6*B7 -> 243.64084 | C8: =C6*C7 -> 236.11244 | D8: =D6*D7 -> 230.93546 | E8: =E6*E7 -> 225.99671 | F8: =F6*F7 -> 208.90986
A10: Sum of PV of FCFs | B10: =SUM(B8:F8) -> 1145.5953
A11: Terminal FCF (FY2029 * (1+g)) | B11: =F6*(1+Assumptions!G46) -> 313.09627
A12: Terminal Value | B12: =B11/(Assumptions!G45-Assumptions!G46) -> 5218.2712
A13: PV of Terminal Value | B13: =B12*F7 -> 3551.4677
A15: Enterprise Value (EV) | B15: =B10+B13 -> 4697.063
A16: Less: Net debt (FY2024) | B16: =-Debt_and_Leases!F17+Balance_Sheet!F6 -> -433.2
A17: Less: NCI | B17: =-Balance_Sheet!F26 -> -426.6
A18: Implied Equity Value | B18: =B15+B16+B17 -> 3837.263
A19: Shares outstanding (m) | B19: =Assumptions!H42 -> 2166.6
A20: Implied share price (S$) | B20: =B18/B19 -> 1.7710989
A22: TRADING MULTIPLES | C22: FY2025E | D22: FY2026E | E22: FY2027E | F22: FY2028E | G22: FY2029E
A23: EV/EBITDA | C23: =B15/Income_Statement!H10 -> 6.0643798 | D23: =B15/Income_Statement!I10 -> 6.0238166 | E23: =B15/Income_Statement!J10 -> 5.9818536 | F23: =B15/Income_Statement!K10 -> 5.8540587 | G23: =B15/Income_Statement!L10 -> 5.7561144
A24: P/E | C24: =B18/Income_Statement!H20 -> 16.446463 | D24: =B18/Income_Statement!I20 -> 15.028219 | E24: =B18/Income_Statement!J20 -> 14.096417 | F24: =B18/Income_Statement!K20 -> 13.453843 | G24: =B18/Income_Statement!L20 -> 13.023246
A25: FCF Yield | C25: =Cash_Flow!H32/B18 -> 0.10494416 | D25: =Cash_Flow!I32/B18 -> 0.076227761 | E25: =Cash_Flow!J32/B18 -> 0.078820625 | F25: =Cash_Flow!K32/B18 -> 0.075290774 | G25: =Cash_Flow!L32/B18 -> 0.075061994

Sheet Sensitivities
A1: ComfortDelGro Corporation Limited — Sensitivity Analysis
A3: TABLE 1: Implied Share Price — WACC vs Terminal Growth Rate
A4: Implied Share Price (S$) | B4: Terminal Growth → | C4: 0.01 | D4: 0.015 | E4: 0.02 | F4: 0.025 | G4: 0.03
A5: WACC: 7.0% | B5: 0.07 | C5: =(Valuation!$B$6/(1+$B5)^1+Valuation!$C$6/(1+$B5)^2+Valuation!$D$6/(1+$B5)^3+Valuation!$E$6/(1+$B5)^4+Valuation!$F$6/(1+$B5)^5+Valuation!$F$6*(1+C$4)/($B5-C$4)/(1+$B5)^5+Valuation!$B$16+Valuation!$B$17)/Valuation!$B$19 -> 1.8469653 | D5: =(Valuation!$B$6/(1+$B5)^1+Valuation!$C$6/(1+$B5)^2+Valuation!$D$6/(1+$B5)^3+Valuation!$E$6/(1+$B5)^4+Valuation!$F$6/(1+$B5)^5+Valuation!$F$6*(1+D$4)/($B5-D$4)/(1+$B5)^5+Valuation!$B$16+Valuation!$B$17)/Valuation!$B$19 -> 2.0107298 | E5: =(Valuation!$B$6/(1+$B5)^1+Valuation!$C$6/(1+$B5)^2+Valuation!$D$6/(1+$B5)^3+Valuation!$E$6/(1+$B5)^4+Valuation!$F$6/(1+$B5)^5+Valuation!$F$6*(1+E$4)/($B5-E$4)/(1+$B5)^5+Valuation!$B$16+Valuation!$B$17)/Valuation!$B$19 -> 2.2072473 | F5: =(Valuation!$B$6/(1+$B5)^1+Valuation!$C$6/(1+$B5)^2+Valuation!$D$6/(1+$B5)^3+Valuation!$E$6/(1+$B5)^4+Valuation!$F$6/(1+$B5)^5+Valuation!$F$6*(1+F$4)/($B5-F$4)/(1+$B5)^5+Valuation!$B$16+Valuation!$B$17)/Valuation!$B$19 -> 2.4474353 | G5: =(Valuation!$B$6/(1+$B5)^1+Valuation!$C$6/(1+$B5)^2+Valuation!$D$6/(1+$B5)^3+Valuation!$E$6/(1+$B5)^4+Valuation!$F$6/(1+$B5)^5+Valuation!$F$6*(1+G$4)/($B5-G$4)/(1+$B5)^5+Valuation!$B$16+Valuation!$B$17)/Valuation!$B$19 -> 2.7476704
A6: WACC: 7.5% | B6: 0.075 | C6: =(Valuation!$B$6/(1+$B6)^1+Valuation!$C$6/(1+$B6)^2+Valuation!$D$6/(1+$B6)^3+Valuation!$E$6/(1+$B6)^4+Valuation!$F$6/(1+$B6)^5+Valuation!$F$6*(1+C$4)/($B6-C$4)/(1+$B6)^5+Valuation!$B$16+Valuation!$B$17)/Valuation!$B$19 -> 1.6725931 | D6: =(Valuation!$B$6/(1+$B6)^1+Valuation!$C$6/(1+$B6)^2+Valuation!$D$6/(1+$B6)^3+Valuation!$E$6/(1+$B6)^4+Valuation!$F$6/(1+$B6)^5+Valuation!$F$6*(1+D$4)/($B6-D$4)/(1+$B6)^5+Valuation!$B$16+Valuation!$B$17)/Valuation!$B$19 -> 1.808603 | E6: =(Valuation!$B$6/(1+$B6)^1+Valuation!$C$6/(1+$B6)^2+Valuation!$D$6/(1+$B6)^3+Valuation!$E$6/(1+$B6)^4+Valuation!$F$6/(1+$B6)^5+Valuation!$F$6*(1+E$4)/($B6-E$4)/(1+$B6)^5+Valuation!$B$16+Valuation!$B$17)/Valuation!$B$19 -> 1.9693419 | F6: =(Valuation!$B$6/(1+$B6)^1+Valuation!$C$6/(1+$B6)^2+Valuation!$D$6/(1+$B6)^3+Valuation!$E$6/(1+$B6)^4+Valuation!$F$6/(1+$B6)^5+Valuation!$F$6*(1+F$4)/($B6-F$4)/(1+$B6)^5+Valuation!$B$16+Valuation!$B$17)/Valuation!$B$19 -> 2.1622287 | G6: =(Valuation!$B$6/(1+$B6)^1+Valuation!$C$6/(1+$B6)^2+Valuation!$D$6/(1+$B6)^3+Valuation!$E$6/(1+$B6)^4+Valuation!$F$6/(1+$B6)^5+Valuation!$F$6*(1+G$4)/($B6-G$4)/(1+$B6)^5+Valuation!$B$16+Valuation!$B$17)/Valuation!$B$19 -> 2.3979792
A7: WACC: 8.0% | B7: 0.08 | C7: =(Valuation!$B$6/(1+$B7)^1+Valuation!$C$6/(1+$B7)^2+Valuation!$D$6/(1+$B7)^3+Valuation!$E$6/(1+$B7)^4+Valuation!$F$6/(1+$B7)^5+Valuation!$F$6*(1+C$4)/($B7-C$4)/(1+$B7)^5+Valuation!$B$16+Valuation!$B$17)/Valuation!$B$19 -> 1.5231543 | D7: =(Valuation!$B$6/(1+$B7)^1+Valuation!$C$6/(1+$B7)^2+Valuation!$D$6/(1+$B7)^3+Valuation!$E$6/(1+$B7)^4+Valuation!$F$6/(1+$B7)^5+Valuation!$F$6*(1+D$4)/($B7-D$4)/(1+$B7)^5+Valuation!$B$16+Valuation!$B$17)/Valuation!$B$19 -> 1.6375903 | E7: =(Valuation!$B$6/(1+$B7)^1+Valuation!$C$6/(1+$B7)^2+Valuation!$D$6/(1+$B7)^3+Valuation!$E$6/(1+$B7)^4+Valuation!$F$6/(1+$B7)^5+Valuation!$F$6*(1+E$4)/($B7-E$4)/(1+$B7)^5+Valuation!$B$16+Valuation!$B$17)/Valuation!$B$19 -> 1.7710989 | F7: =(Valuation!$B$6/(1+$B7)^1+Valuation!$C$6/(1+$B7)^2+Valuation!$D$6/(1+$B7)^3+Valuation!$E$6/(1+$B7)^4+Valuation!$F$6/(1+$B7)^5+Valuation!$F$6*(1+F$4)/($B7-F$4)/(1+$B7)^5+Valuation!$B$16+Valuation!$B$17)/Valuation!$B$19 -> 1.9288819 | G7: =(Valuation!$B$6/(1+$B7)^1+Valuation!$C$6/(1+$B7)^2+Valuation!$D$6/(1+$B7)^3+Valuation!$E$6/(1+$B7)^4+Valuation!$F$6/(1+$B7)^5+Valuation!$F$6*(1+G$4)/($B7-G$4)/(1+$B7)^5+Valuation!$B$16+Valuation!$B$17)/Valuation!$B$19 -> 2.1182214
A8: WACC: 8.5% | B8: 0.085 | C8: =(Valuation!$B$6/(1+$B8)^1+Valuation!$C$6/(1+$B8)^2+Valuation!$D$6/(1+$B8)^3+Valuation!$E$6/(1+$B8)^4+Valuation!$F$6/(1+$B8)^5+Valuation!$F$6*(1+C$4)/($B8-C$4)/(1+$B8)^5+Valuation!$B$16+Valuation!$B$17)/Valuation!$B$19 -> 1.393662 | D8: =(Valuation!$B$6/(1+$B8)^1+Valuation!$C$6/(1+$B8)^2+Valuation!$D$6/(1+$B8)^3+Valuation!$E$6/(1+$B8)^4+Valuation!$F$6/(1+$B8)^5+Valuation!$F$6*(1+D$4)/($B8-D$4)/(1+$B8)^5+Valuation!$B$16+Valuation!$B$17)/Valuation!$B$19 -> 1.4910243 | E8: =(Valuation!$B$6/(1+$B8)^1+Valuation!$C$6/(1+$B8)^2+Valuation!$D$6/(1+$B8)^3+Valuation!$E$6/(1+$B8)^4+Valuation!$F$6/(1+$B8)^5+Valuation!$F$6*(1+E$4)/($B8-E$4)/(1+$B8)^5+Valuation!$B$16+Valuation!$B$17)/Valuation!$B$19 -> 1.6033653 | F8: =(Valuation!$B$6/(1+$B8)^1+Valuation!$C$6/(1+$B8)^2+Valuation!$D$6/(1+$B8)^3+Valuation!$E$6/(1+$B8)^4+Valuation!$F$6/(1+$B8)^5+Valuation!$F$6*(1+F$4)/($B8-F$4)/(1+$B8)^5+Valuation!$B$16+Valuation!$B$17)/Valuation!$B$19 -> 1.73443 | G8: =(Valuation!$B$6/(1+$B8)^1+Valuation!$C$6/(1+$B8)^2+Valuation!$D$6/(1+$B8)^3+Valuation!$E$6/(1+$B8)^4+Valuation!$F$6/(1+$B8)^5+Valuation!$F$6*(1+G$4)/($B8-G$4)/(1+$B8)^5+Valuation!$B$16+Valuation!$B$17)/Valuation!$B$19 -> 1.8893245
