Workbook
Name A_ALL_KEYWORDS_TYPE_ScalarContributed_EQTY_200014669: #REF!,#REF!,#REF!,#REF!,#REF!
Name A_ALL_KEYWORDS_TYPE_Vector_ISSR_208011458: #REF!,#REF!,#REF!,#REF!,#REF!,#REF!,#REF!,#REF!,#REF!,#REF!,#REF!,#REF!,#REF!
Name A_ALL_META: #REF!
Name A_ALL_SECTION_KEYWORDS_EQTY_200014669_13A: #REF!
Name A_ALL_SECTION_KEYWORDS_ISSR_208011458_131O: #REF!,#REF!
Name E_ALL_KEYWORDS_TYPE_Vector_ISSR_208011458: #REF!,#REF!,#REF!,#REF!,#REF!,#REF!,#REF!,#REF!,#REF!,#REF!,#REF!,#REF!,#REF!
Name E_ALL_META: #REF!
Name E_ALL_SECTION_KEYWORDS_ISSR_208011458_131O: #REF!,#REF!
Name L_ALL_KEYWORDS_TYPE_ScalarContributed_EQTY_200014669: #REF!,#REF!,#REF!,#REF!,#REF!
Name L_ALL_KEYWORDS_TYPE_Vector_ISSR_208011458: #REF!,#REF!,#REF!,#REF!,#REF!,#REF!,#REF!,#REF!,#REF!,#REF!,#REF!,#REF!,#REF!
Name L_ALL_META: #REF!
Name L_ALL_SECTION_KEYWORDS_EQTY_200014669_13A: #REF!
Name L_ALL_SECTION_KEYWORDS_ISSR_208011458_131O: #REF!,#REF!
Name V_ALL_KEYWORDS_TYPE_ScalarContributed_EQTY_200014669: #REF!,#REF!,#REF!,#REF!,#REF!
Name V_ALL_KEYWORDS_TYPE_Vector_ISSR_208011458: #REF!,#REF!,#REF!,#REF!,#REF!,#REF!,#REF!,#REF!,#REF!,#REF!,#REF!,#REF!,#REF!
Name V_ALL_META: #REF!
Name V_ALL_SECTION_KEYWORDS_EQTY_200014669_13A: #REF!
Name V_ALL_SECTION_KEYWORDS_ISSR_208011458_131O: #REF!,#REF!

Sheet __FDSCACHE__
B1: This sheet contains FactSet XML data for use with this workbook's =FDS codes. Modifying the worksheet's contents may damage the workbook's =FDS functionality.

Sheet Cover
D4: Meta Platforms, Inc. (META)
D5: US Internet
D10: Eric Sheridan
D11: eric.sheridan@gs.com
D12: 212-357-1849 (New York)
D14: Alex Vegliante, CFA
D15: alex.vegliante@gs.com
D16: 212-934-1878 (New York)
D18: Aarshiya Sachdeva
D19: aarshiya.sachdeva@gs.com
D20: 212-855-6184 (New York)

Sheet P&L Summary
A1: META
A2: P&L Summary
A3: (USD millions) | B3: ='Income Statement'!BB1 -> 1Q23 | C3: ='Income Statement'!BC1 -> 2Q23 | D3: ='Income Statement'!BD1 -> 3Q23 | E3: ='Income Statement'!BE1 -> 4Q23 | F3: ='Income Statement'!BF1 -> 1Q24 | G3: ='Income Statement'!BG1 -> 2Q24 | H3: ='Income Statement'!BH1 -> 3Q24 | I3: ='Income Statement'!BI1 -> 4Q24 | ... Q3: ='Income Statement'!BQ1 -> 4Q26E | S3: ='Income Statement'!CY1 -> 2022 | T3: ='Income Statement'!CZ1 -> 2023 | U3: ='Income Statement'!DA1 -> 2024 | V3: ='Income Statement'!DB1 -> 2025 | W3: ='Income Statement'!DC1 -> 2026E
A5: Total Revenue | B5: ='Income Statement'!BB157 -> 28645 | C5: ='Income Statement'!BC157 -> 31999 | D5: ='Income Statement'!BD157 -> 34146 | E5: ='Income Statement'!BE157 -> 40111 | F5: ='Income Statement'!BF157 -> 36455 | G5: ='Income Statement'!BG157 -> 39071 | H5: ='Income Statement'!BH157 -> 40589 | I5: ='Income Statement'!BI157 -> 48385 | ... Q5: ='Income Statement'!BQ157 -> 73400.02 | S5: ='Income Statement'!CY157 -> 116609 | T5: ='Income Statement'!CZ157 -> 134901 | U5: ='Income Statement'!DA157 -> 164500 | V5: ='Income Statement'!DB157 -> 200965 | W5: ='Income Statement'!DC157 -> 251108.31
A6: GAAP Gross Profit | B6: ='Income Statement'!BB186 -> 22537 | C6: ='Income Statement'!BC186 -> 26054 | D6: ='Income Statement'!BD186 -> 27936 | E6: ='Income Statement'!BE186 -> 32416 | F6: ='Income Statement'!BF186 -> 29815 | G6: ='Income Statement'!BG186 -> 31763 | H6: ='Income Statement'!BH186 -> 33214 | I6: ='Income Statement'!BI186 -> 39546 | ... Q6: ='Income Statement'!BQ186 -> 55154.632 | S6: ='Income Statement'!CY186 -> 91360 | T6: ='Income Statement'!CZ186 -> 108943 | U6: ='Income Statement'!DA186 -> 134338 | V6: ='Income Statement'!DB186 -> 164791 | W6: ='Income Statement'!DC186 -> 189215
A7: Sales & Marketing | B7: ='Income Statement'!BB198 -> -3044 | C7: ='Income Statement'!BC198 -> -3154 | D7: ='Income Statement'!BD198 -> -2877 | E7: ='Income Statement'!BE198 -> -3226 | F7: ='Income Statement'!BF198 -> -2564 | G7: ='Income Statement'!BG198 -> -2721 | H7: ='Income Statement'!BH198 -> -2822 | I7: ='Income Statement'!BI198 -> -3240 | ... Q7: ='Income Statement'!BQ198 -> -3751 | S7: ='Income Statement'!CY198 -> -15261 | T7: ='Income Statement'!CZ198 -> -12301 | U7: ='Income Statement'!DA198 -> -11347 | V7: ='Income Statement'!DB198 -> -11991 | W7: ='Income Statement'!DC198 -> -13190.1
A8: R&D | B8: ='Income Statement'!BB193 -> -9381 | C8: ='Income Statement'!BC193 -> -9344 | D8: ='Income Statement'!BD193 -> -9241 | E8: ='Income Statement'!BE193 -> -10517 | F8: ='Income Statement'!BF193 -> -9978 | G8: ='Income Statement'!BG193 -> -10537 | H8: ='Income Statement'!BH193 -> -11177 | I8: ='Income Statement'!BI193 -> -12180 | ... Q8: ='Income Statement'!BQ193 -> -21420 | S8: ='Income Statement'!CY193 -> -35338 | T8: ='Income Statement'!CZ193 -> -38483 | U8: ='Income Statement'!DA193 -> -43872 | V8: ='Income Statement'!DB193 -> -57372 | W8: ='Income Statement'!DC193 -> -78098.1
A9: SG&A | B9: ='Income Statement'!BB203 -> -2885 | C9: ='Income Statement'!BC203 -> -4164 | D9: ='Income Statement'!BD203 -> -2070 | E9: ='Income Statement'!BE203 -> -2289 | F9: ='Income Statement'!BF203 -> -3455 | G9: ='Income Statement'!BG203 -> -3658 | H9: ='Income Statement'!BH203 -> -1865 | I9: ='Income Statement'!BI203 -> -761 | ... Q9: ='Income Statement'!BQ203 -> -3512.15 | S9: ='Income Statement'!CY203 -> -11816 | T9: ='Income Statement'!CZ203 -> -11408 | U9: ='Income Statement'!DA203 -> -9739 | V9: ='Income Statement'!DB203 -> -12152 | W9: ='Income Statement'!DC203 -> -13164.6
A10: Stock-Based Comp | B10: ='Income Statement'!BB236 -> -3051 | C10: ='Income Statement'!BC236 -> -4060 | D10: ='Income Statement'!BD236 -> -3492 | E10: ='Income Statement'!BE236 -> -3424 | F10: ='Income Statement'!BF236 -> -3562 | G10: ='Income Statement'!BG236 -> -4616 | H10: ='Income Statement'!BH236 -> -4250 | I10: ='Income Statement'!BI236 -> -4262 | ... Q10: ='Income Statement'!BQ236 -> -6184.5 | S10: ='Income Statement'!CY236 -> -11991 | T10: ='Income Statement'!CZ236 -> -14027 | U10: ='Income Statement'!DA236 -> -16690 | V10: ='Income Statement'!DB236 -> -20426 | W10: ='Income Statement'!DC236 -> -21447.3
A11: GAAP Operating Income | B11: ='Income Statement'!BB216 -> 7227 | C11: ='Income Statement'!BC216 -> 9392 | D11: ='Income Statement'!BD216 -> 13748 | E11: ='Income Statement'!BE216 -> 16384 | F11: ='Income Statement'!BF216 -> 13818 | G11: ='Income Statement'!BG216 -> 14847 | H11: ='Income Statement'!BH216 -> 17350 | I11: ='Income Statement'!BI216 -> 23365 | ... Q11: ='Income Statement'!BQ216 -> 26471.482 | S11: ='Income Statement'!CY216 -> 28945 | T11: ='Income Statement'!CZ216 -> 46751 | U11: ='Income Statement'!DA216 -> 69380 | V11: ='Income Statement'!DB216 -> 83276 | W11: ='Income Statement'!DC216 -> 84762.202
A12: Total GAAP Expenses | B12: ='Income Statement'!BB212 -> -21418 | C12: ='Income Statement'!BC212 -> -22607 | D12: ='Income Statement'!BD212 -> -20398 | E12: ='Income Statement'!BE212 -> -23727 | F12: ='Income Statement'!BF212 -> -22637 | G12: ='Income Statement'!BG212 -> -24224 | H12: ='Income Statement'!BH212 -> -23239 | I12: ='Income Statement'!BI212 -> -25020 | ... Q12: ='Income Statement'!BQ212 -> -46928.538 | S12: ='Income Statement'!CY212 -> -87664 | T12: ='Income Statement'!CZ212 -> -88150 | U12: ='Income Statement'!DA212 -> -95120 | V12: ='Income Statement'!DB212 -> -117689 | W12: ='Income Statement'!DC212 -> -166346.11
A13: Family of Apps OI | B13: ='Income Statement'!BB222 -> 11219 | C13: ='Income Statement'!BC222 -> 13131 | D13: ='Income Statement'!BD222 -> 17490 | E13: ='Income Statement'!BE222 -> 21030 | F13: ='Income Statement'!BF222 -> 17664 | G13: ='Income Statement'!BG222 -> 19335 | H13: ='Income Statement'!BH222 -> 21778 | I13: ='Income Statement'!BI222 -> 28332 | ... Q13: ='Income Statement'!BQ222 -> 32492.482 | S13: ='Income Statement'!CY222 -> 42662 | T13: ='Income Statement'!CZ222 -> 62870 | U13: ='Income Statement'!DA222 -> 87109 | V13: ='Income Statement'!DB222 -> 102469 | W13: ='Income Statement'!DC222 -> 103955.2
A14: Reality Labs OI | B14: ='Income Statement'!BB227 -> -3992 | C14: ='Income Statement'!BC227 -> -3739 | D14: ='Income Statement'!BD227 -> -3742 | E14: ='Income Statement'!BE227 -> -4646 | F14: ='Income Statement'!BF227 -> -3846 | G14: ='Income Statement'!BG227 -> -4488 | H14: ='Income Statement'!BH227 -> -4428 | I14: ='Income Statement'!BI227 -> -4967 | ... Q14: ='Income Statement'!BQ227 -> -6021 | S14: ='Income Statement'!CY227 -> -13717 | T14: ='Income Statement'!CZ227 -> -16119 | U14: ='Income Statement'!DA227 -> -17729 | V14: ='Income Statement'!DB227 -> -19193 | W14: ='Income Statement'!DC227 -> -19193
A15: Net Income | B15: ='Income Statement'!BB275 -> 5709 | C15: ='Income Statement'!BC275 -> 7788 | D15: ='Income Statement'!BD275 -> 11583 | E15: ='Income Statement'!BE275 -> 14017 | F15: ='Income Statement'!BF275 -> 12369 | G15: ='Income Statement'!BG275 -> 13465 | H15: ='Income Statement'!BH275 -> 15688 | I15: ='Income Statement'!BI275 -> 20838 | ... Q15: ='Income Statement'!BQ275 -> 23125.399 | S15: ='Income Statement'!CY275 -> 23199 | T15: ='Income Statement'!CZ275 -> 39097 | U15: ='Income Statement'!DA275 -> 62360 | V15: ='Income Statement'!DB275 -> 60458 | W15: ='Income Statement'!DC275 -> 74376.823
A16: GAAP EPS | B16: ='Income Statement'!BB280 -> 2.1991525 | C16: ='Income Statement'!BC280 -> 2.9816233 | D16: ='Income Statement'!BD280 -> 4.3858387 | E16: ='Income Statement'!BE280 -> 5.3296578 | F16: ='Income Statement'!BF280 -> 4.712 | G16: ='Income Statement'!BG280 -> 5.1590038 | H16: ='Income Statement'!BH280 -> 6.0338462 | I16: ='Income Statement'!BI280 -> 8.0176991 | ... Q16: ='Income Statement'!BQ280 -> 8.9101829 | S16: ='Income Statement'!CY280 -> 8.7875 | T16: ='Income Statement'!CZ280 -> 14.865779 | U16: ='Income Statement'!DA280 -> 23.993844 | V16: ='Income Statement'!DB280 -> 23.487956 | W16: ='Income Statement'!DC280 -> 28.790308
A17: GAAP EBITDA | B17: ='Cash Flow Statement'!BB72 -> 9751 | C17: ='Cash Flow Statement'!BC72 -> 12015 | D17: ='Cash Flow Statement'!BD72 -> 16606 | E17: ='Cash Flow Statement'!BE72 -> 19556 | F17: ='Cash Flow Statement'!BF72 -> 17192 | G17: ='Cash Flow Statement'!BG72 -> 18484 | H17: ='Cash Flow Statement'!BH72 -> 21377 | I17: ='Cash Flow Statement'!BI72 -> 27825 | ... Q17: ='Cash Flow Statement'!BQ72 -> 36080.578 | S17: ='Cash Flow Statement'!CY72 -> 37631 | T17: ='Cash Flow Statement'!CZ72 -> 57928 | U17: ='Cash Flow Statement'!DA72 -> 84878 | V17: ='Cash Flow Statement'!DB72 -> 101892 | W17: ='Cash Flow Statement'!DC72 -> 123011.5
A18: Capex | B18: ='Capex & Depreciation'!BB4 -> -7087 | C18: ='Capex & Depreciation'!BC4 -> -6354 | D18: ='Capex & Depreciation'!BD4 -> -6763 | E18: ='Capex & Depreciation'!BE4 -> -7899 | F18: ='Capex & Depreciation'!BF4 -> -6715 | G18: ='Capex & Depreciation'!BG4 -> -8472 | H18: ='Capex & Depreciation'!BH4 -> -9202 | I18: ='Capex & Depreciation'!BI4 -> -14836 | ... Q18: ='Capex & Depreciation'!BQ4 -> -33205.5 | S18: ='Capex & Depreciation'!CY4 -> -32036 | T18: ='Capex & Depreciation'!CZ4 -> -28103 | U18: ='Capex & Depreciation'!DA4 -> -39225 | V18: ='Capex & Depreciation'!DB4 -> -72215 | W18: ='Capex & Depreciation'!DC4 -> -132175.5
A19: Free Cash Flow | B19: ='Cash Flow Statement'!BB77 -> 6911 | C19: ='Cash Flow Statement'!BC77 -> 10955 | D19: ='Cash Flow Statement'!BD77 -> 13639 | E19: ='Cash Flow Statement'!BE77 -> 11505 | F19: ='Cash Flow Statement'!BF77 -> 12531 | G19: ='Cash Flow Statement'!BG77 -> 10898 | H19: ='Cash Flow Statement'!BH77 -> 15522 | I19: ='Cash Flow Statement'!BI77 -> 13152 | ... Q19: ='Cash Flow Statement'!BQ77 -> 17545.969 | S19: ='Cash Flow Statement'!CY77 -> 18439 | T19: ='Cash Flow Statement'!CZ77 -> 43010 | U19: ='Cash Flow Statement'!DA77 -> 52103 | V19: ='Cash Flow Statement'!DB77 -> 43585 | W19: ='Cash Flow Statement'!DC77 -> 39162.913
A20: Free Cash Flow Minus SBC | B20: ='Cash Flow Statement'!BB84 -> 3860 | C20: ='Cash Flow Statement'!BC84 -> 6895 | D20: ='Cash Flow Statement'!BD84 -> 10147 | E20: ='Cash Flow Statement'!BE84 -> 8081 | F20: ='Cash Flow Statement'!BF84 -> 8969 | G20: ='Cash Flow Statement'!BG84 -> 6282 | H20: ='Cash Flow Statement'!BH84 -> 11272 | I20: ='Cash Flow Statement'!BI84 -> 8890 | ... Q20: ='Cash Flow Statement'!BQ84 -> 11361.469 | S20: ='Cash Flow Statement'!CY84 -> 6448 | T20: ='Cash Flow Statement'!CZ84 -> 28983 | U20: ='Cash Flow Statement'!DA84 -> 35413 | V20: ='Cash Flow Statement'!DB84 -> 23159 | W20: ='Cash Flow Statement'!DC84 -> 17715.613
A22: As % of Revenue
A24: GAAP Gross Profit | B24: ='Income Statement'!BB187 -> 0.78676907 | C24: ='Income Statement'!BC187 -> 0.81421294 | D24: ='Income Statement'!BD187 -> 0.8181339 | E24: ='Income Statement'!BE187 -> 0.80815736 | F24: ='Income Statement'!BF187 -> 0.81785763 | G24: ='Income Statement'!BG187 -> 0.8129559 | H24: ='Income Statement'!BH187 -> 0.81830052 | I24: ='Income Statement'!BI187 -> 0.81731942 | ... Q24: ='Income Statement'!BQ187 -> 0.7514253 | S24: ='Income Statement'!CY187 -> 0.78347297 | T24: ='Income Statement'!CZ187 -> 0.80757741 | U24: ='Income Statement'!DA187 -> 0.81664438 | V24: ='Income Statement'!DB187 -> 0.81999851 | W24: ='Income Statement'!DC187 -> 0.75351948
A25: Sales & Marketing | B25: ='Income Statement'!BB199 -> -0.10626636 | C25: ='Income Statement'!BC199 -> -0.09856558 | D25: ='Income Statement'!BD199 -> -0.084255843 | E25: ='Income Statement'!BE199 -> -0.080426816 | F25: ='Income Statement'!BF199 -> -0.070333288 | G25: ='Income Statement'!BG199 -> -0.069642446 | H25: ='Income Statement'!BH199 -> -0.069526226 | I25: ='Income Statement'!BI199 -> -0.066962902 | ... Q25: ='Income Statement'!BQ199 -> -0.051103528 | S25: ='Income Statement'!CY199 -> -0.13087326 | T25: ='Income Statement'!CZ199 -> -0.091185388 | U25: ='Income Statement'!DA199 -> -0.068978723 | V25: ='Income Statement'!DB199 -> -0.059667106 | W25: ='Income Statement'!DC199 -> -0.052527533
A26: R&D | B26: ='Income Statement'!BB194 -> -0.32749171 | C26: ='Income Statement'!BC194 -> -0.29200913 | D26: ='Income Statement'!BD194 -> -0.27063199 | E26: ='Income Statement'!BE194 -> -0.2621974 | F26: ='Income Statement'!BF194 -> -0.27370731 | G26: ='Income Statement'!BG194 -> -0.26968852 | H26: ='Income Statement'!BH194 -> -0.27537017 | I26: ='Income Statement'!BI194 -> -0.25173091 | ... Q26: ='Income Statement'!BQ194 -> -0.29182553 | S26: ='Income Statement'!CY194 -> -0.30304693 | T26: ='Income Statement'!CZ194 -> -0.28526846 | U26: ='Income Statement'!DA194 -> -0.26669909 | V26: ='Income Statement'!DB194 -> -0.28548255 | W26: ='Income Statement'!DC194 -> -0.3110136
A27: SG&A | B27: ='Income Statement'!BB204 -> -0.10071566 | C27: ='Income Statement'!BC204 -> -0.13012907 | D27: ='Income Statement'!BD204 -> -0.060622035 | E27: ='Income Statement'!BE204 -> -0.05706664 | F27: ='Income Statement'!BF204 -> -0.094774379 | G27: ='Income Statement'!BG204 -> -0.093624427 | H27: ='Income Statement'!BH204 -> -0.04594841 | I27: ='Income Statement'!BI204 -> -0.015728015 | ... Q27: ='Income Statement'!BQ204 -> -0.047849442 | S27: ='Income Statement'!CY204 -> -0.10133009 | T27: ='Income Statement'!CZ204 -> -0.084565719 | U27: ='Income Statement'!DA204 -> -0.059203647 | V27: ='Income Statement'!DB204 -> -0.060468241 | W27: ='Income Statement'!DC204 -> -0.052425983
A28: Stock-Based Comp | B28: ='Income Statement'!BB237 -> -0.10651073 | C28: ='Income Statement'!BC237 -> -0.12687896 | D28: ='Income Statement'!BD237 -> -0.10226674 | E28: ='Income Statement'!BE237 -> -0.085363117 | F28: ='Income Statement'!BF237 -> -0.097709505 | G28: ='Income Statement'!BG237 -> -0.11814389 | H28: ='Income Statement'!BH237 -> -0.10470817 | I28: ='Income Statement'!BI237 -> -0.08808515 | ... Q28: ='Income Statement'!BQ237 -> -0.08425747 | S28: ='Income Statement'!CY237 -> -0.10283083 | T28: ='Income Statement'!CZ237 -> -0.10397996 | U28: ='Income Statement'!DA237 -> -0.10145897 | V28: ='Income Statement'!DB237 -> -0.10163959 | W28: ='Income Statement'!DC237 -> -0.085410555
A29: GAAP Operating Income | B29: ='Income Statement'!BB217 -> 0.25229534 | C29: ='Income Statement'!BC217 -> 0.29350917 | D29: ='Income Statement'!BD217 -> 0.40262403 | E29: ='Income Statement'!BE217 -> 0.40846651 | F29: ='Income Statement'!BF217 -> 0.37904266 | G29: ='Income Statement'!BG217 -> 0.38000051 | H29: ='Income Statement'!BH217 -> 0.42745571 | I29: ='Income Statement'!BI217 -> 0.48289759 | ... Q29: ='Income Statement'!BQ217 -> 0.3606468 | S29: ='Income Statement'!CY217 -> 0.24822269 | T29: ='Income Statement'!CZ217 -> 0.34655785 | U29: ='Income Statement'!DA217 -> 0.42176292 | V29: ='Income Statement'!DB217 -> 0.41438061 | W29: ='Income Statement'!DC217 -> 0.33755236
A30: Total GAAP Expenses | B30: ='Income Statement'!BB213 -> -0.74770466 | C30: ='Income Statement'!BC213 -> -0.70649083 | D30: ='Income Statement'!BD213 -> -0.59737597 | E30: ='Income Statement'!BE213 -> -0.59153349 | F30: ='Income Statement'!BF213 -> -0.62095734 | G30: ='Income Statement'!BG213 -> -0.61999949 | H30: ='Income Statement'!BH213 -> -0.57254429 | I30: ='Income Statement'!BI213 -> -0.51710241 | ... Q30: ='Income Statement'!BQ213 -> -0.6393532 | S30: ='Income Statement'!CY213 -> -0.75177731 | T30: ='Income Statement'!CZ213 -> -0.65344215 | U30: ='Income Statement'!DA213 -> -0.57823708 | V30: ='Income Statement'!DB213 -> -0.58561939 | W30: ='Income Statement'!DC213 -> -0.66244764
A31: Family of Apps OI | B31: ='Income Statement'!BB223 -> 0.39634706 | C31: ='Income Statement'!BC223 -> 0.4139268 | D31: ='Income Statement'!BD223 -> 0.5153819 | E31: ='Income Statement'!BE223 -> 0.53867828 | F31: ='Income Statement'!BF223 -> 0.49046231 | G31: ='Income Statement'!BG223 -> 0.49938013 | H31: ='Income Statement'!BH223 -> 0.54014236 | I31: ='Income Statement'!BI223 -> 0.59895987 | ... Q31: ='Income Statement'!BQ223 -> 0.4499953 | S31: ='Income Statement'!CY223 -> 0.37275666 | T31: ='Income Statement'!CZ223 -> 0.472689 | U31: ='Income Statement'!DA223 -> 0.53653744 | V31: ='Income Statement'!DB223 -> 0.51554654 | W31: ='Income Statement'!DC223 -> 0.4185842
A32: Reality Labs OI | B32: ='Income Statement'!BB228 -> -11.775811 | C32: ='Income Statement'!BC228 -> -13.547101 | D32: ='Income Statement'!BD228 -> -17.819048 | E32: ='Income Statement'!BE228 -> -4.3380019 | F32: ='Income Statement'!BF228 -> -8.7409091 | G32: ='Income Statement'!BG228 -> -12.713881 | H32: ='Income Statement'!BH228 -> -16.4 | I32: ='Income Statement'!BI228 -> -4.5863343 | ... Q32: ='Income Statement'!BQ228 -> -5.0437696 | S32: ='Income Statement'!CY228 -> -6.3534044 | T32: ='Income Statement'!CZ228 -> -8.5015823 | U32: ='Income Statement'!DA228 -> -8.2614166 | V32: ='Income Statement'!DB228 -> -8.6964205 | W32: ='Income Statement'!DC228 -> -6.9571364
A33: Net Income | B33: ='Income Statement'!BB276 -> 0.1993018 | C33: ='Income Statement'!BC276 -> 0.24338261 | D33: ='Income Statement'!BD276 -> 0.33921982 | E33: ='Income Statement'!BE276 -> 0.34945526 | F33: ='Income Statement'!BF276 -> 0.33929502 | G33: ='Income Statement'!BG276 -> 0.34462901 | H33: ='Income Statement'!BH276 -> 0.38650866 | I33: ='Income Statement'!BI276 -> 0.43067066 | ... Q33: ='Income Statement'!BQ276 -> 0.31505985 | S33: ='Income Statement'!CY276 -> 0.19894691 | T33: ='Income Statement'!CZ276 -> 0.28981994 | U33: ='Income Statement'!DA276 -> 0.37908815 | V33: ='Income Statement'!DB276 -> 0.30083845 | W33: ='Income Statement'!DC276 -> 0.29619419
A34: GAAP EBITDA | B34: ='Cash Flow Statement'!BB73 -> 0.34040845 | C34: ='Cash Flow Statement'!BC73 -> 0.37548048 | D34: ='Cash Flow Statement'!BD73 -> 0.48632343 | E34: ='Cash Flow Statement'!BE73 -> 0.48754706 | F34: ='Cash Flow Statement'!BF73 -> 0.47159512 | G34: ='Cash Flow Statement'!BG73 -> 0.47308746 | H34: ='Cash Flow Statement'!BH73 -> 0.52666979 | I34: ='Cash Flow Statement'!BI73 -> 0.57507492 | ... Q34: ='Cash Flow Statement'!BQ73 -> 0.49156087 | S34: ='Cash Flow Statement'!CY73 -> 0.32271094 | T34: ='Cash Flow Statement'!CZ73 -> 0.4294112 | U34: ='Cash Flow Statement'!DA73 -> 0.51597568 | V34: ='Cash Flow Statement'!DB73 -> 0.50701366 | W34: ='Cash Flow Statement'!DC73 -> 0.48987426
A35: Capex | B35: ='Capex & Depreciation'!BB5 -> -0.24740792 | C35: ='Capex & Depreciation'!BC5 -> -0.19856871 | D35: ='Capex & Depreciation'!BD5 -> -0.19806127 | E35: ='Capex & Depreciation'!BE5 -> -0.19692852 | F35: ='Capex & Depreciation'!BF5 -> -0.1841997 | G35: ='Capex & Depreciation'!BG5 -> -0.21683602 | H35: ='Capex & Depreciation'!BH5 -> -0.22671167 | I35: ='Capex & Depreciation'!BI5 -> -0.30662395 | ... Q35: ='Capex & Depreciation'!BQ5 -> -0.45239088 | S35: ='Capex & Depreciation'!CY5 -> -0.27473008 | T35: ='Capex & Depreciation'!CZ5 -> -0.20832314 | U35: ='Capex & Depreciation'!DA5 -> -0.23844985 | V35: ='Capex & Depreciation'!DB5 -> -0.35934118 | W35: ='Capex & Depreciation'!DC5 -> -0.52636848
A36: Free Cash Flow | B36: ='Cash Flow Statement'!BB78 -> 0.24126375 | C36: ='Cash Flow Statement'!BC78 -> 0.34235445 | D36: ='Cash Flow Statement'!BD78 -> 0.39943185 | E36: ='Cash Flow Statement'!BE78 -> 0.28682905 | F36: ='Cash Flow Statement'!BF78 -> 0.34373886 | G36: ='Cash Flow Statement'!BG78 -> 0.27892811 | H36: ='Cash Flow Statement'!BH78 -> 0.38241888 | I36: ='Cash Flow Statement'!BI78 -> 0.27181978 | ... Q36: ='Cash Flow Statement'!BQ78 -> 0.23904583 | S36: ='Cash Flow Statement'!CY78 -> 0.15812673 | T36: ='Cash Flow Statement'!CZ78 -> 0.3188264 | U36: ='Cash Flow Statement'!DA78 -> 0.31673556 | V36: ='Cash Flow Statement'!DB78 -> 0.21687856 | W36: ='Cash Flow Statement'!DC78 -> 0.15596024
A37: Free Cash Flow Minus SBC | B37: ='Cash Flow Statement'!BB85 -> 0.13475301 | C37: ='Cash Flow Statement'!BC85 -> 0.21547548 | D37: ='Cash Flow Statement'!BD85 -> 0.29716511 | E37: ='Cash Flow Statement'!BE85 -> 0.20146593 | F37: ='Cash Flow Statement'!BF85 -> 0.24602935 | G37: ='Cash Flow Statement'!BG85 -> 0.16078421 | H37: ='Cash Flow Statement'!BH85 -> 0.27771071 | I37: ='Cash Flow Statement'!BI85 -> 0.18373463 | ... Q37: ='Cash Flow Statement'!BQ85 -> 0.15478836 | S37: ='Cash Flow Statement'!CY85 -> 0.055295903 | T37: ='Cash Flow Statement'!CZ85 -> 0.21484644 | U37: ='Cash Flow Statement'!DA85 -> 0.2152766 | V37: ='Cash Flow Statement'!DB85 -> 0.11523897 | W37: ='Cash Flow Statement'!DC85 -> 0.070549689
A39: Year-on-Year Growth
A41: Total Revenue | B41: ='Income Statement'!BB159 -> 0.026408198 | C41: ='Income Statement'!BC159 -> 0.1102283 | D41: ='Income Statement'!BD159 -> 0.23208487 | E41: ='Income Statement'!BE159 -> 0.24703871 | F41: ='Income Statement'!BF159 -> 0.27264793 | G41: ='Income Statement'!BG159 -> 0.22100691 | H41: ='Income Statement'!BH159 -> 0.18868974 | I41: ='Income Statement'!BI159 -> 0.20627758 | ... Q41: ='Income Statement'!BQ159 -> 0.22551918 | S41: ='Income Statement'!CY159 -> -0.011193176 | T41: ='Income Statement'!CZ159 -> 0.15686611 | U41: ='Income Statement'!DA159 -> 0.21941275 | V41: ='Income Statement'!DB159 -> 0.22167173 | W41: ='Income Statement'!DC159 -> 0.24951265
A42: GAAP Gross Profit | B42: ='Income Statement'!BB190 -> 0.028945807 | C42: ='Income Statement'!BC190 -> 0.10258146 | D42: ='Income Statement'!BD190 -> 0.26993363 | E42: ='Income Statement'!BE190 -> 0.36035923 | F42: ='Income Statement'!BF190 -> 0.32293562 | G42: ='Income Statement'!BG190 -> 0.21912182 | H42: ='Income Statement'!BH190 -> 0.18893184 | I42: ='Income Statement'!BI190 -> 0.21995311 | ... Q42: ='Income Statement'!BQ190 -> 0.12588046 | S42: ='Income Statement'!CY190 -> -0.041141898 | T42: ='Income Statement'!CZ190 -> 0.19245841 | U42: ='Income Statement'!DA190 -> 0.23310355 | V42: ='Income Statement'!DB190 -> 0.2266894 | W42: ='Income Statement'!DC190 -> 0.14821199
A43: GAAP Gross Profit Margin (bps) | B43: ='Income Statement'!BB188 -> 19.403467 | C43: ='Income Statement'!BC188 -> -56.468851 | D43: ='Income Statement'!BD188 -> 243.83445 | E43: ='Income Statement'!BE188 -> 673.21051 | F43: ='Income Statement'!BF188 -> 310.88563 | G43: ='Income Statement'!BG188 -> -12.570434 | H43: ='Income Statement'!BH188 -> 1.6662915 | I43: ='Income Statement'!BI188 -> 91.620539 | ... Q43: ='Income Statement'!BQ188 -> -665 | S43: ='Income Statement'!CY188 -> -244.70789 | T43: ='Income Statement'!CZ188 -> 241.04435 | U43: ='Income Statement'!DA188 -> 90.669683 | V43: ='Income Statement'!DB188 -> 33.541303 | W43: ='Income Statement'!DC188 -> -664.79032
A44: Sales & Marketing | B44: ='Income Statement'!BB201 -> -0.080917874 | C44: ='Income Statement'!BC201 -> -0.12267038 | D44: ='Income Statement'!BD201 -> -0.23888889 | E44: ='Income Statement'!BE201 -> -0.29470923 | F44: ='Income Statement'!BF201 -> -0.15768725 | G44: ='Income Statement'!BG201 -> -0.13728599 | H44: ='Income Statement'!BH201 -> -0.019117136 | I44: ='Income Statement'!BI201 -> 0.0043397396 | ... Q44: ='Income Statement'!BQ201 -> 0.1 | S44: ='Income Statement'!CY201 -> 0.086733604 | T44: ='Income Statement'!CZ201 -> -0.19395846 | U44: ='Income Statement'!DA201 -> -0.07755467 | V44: ='Income Statement'!DB201 -> 0.056755089 | W44: ='Income Statement'!DC201 -> 0.1
A45: R&D | B45: ='Income Statement'!BB196 -> 0.21720514 | C45: ='Income Statement'!BC196 -> 0.075258918 | D45: ='Income Statement'!BD196 -> 0.007742639 | E45: ='Income Statement'!BE196 -> 0.076348378 | F45: ='Income Statement'!BF196 -> 0.063639271 | G45: ='Income Statement'!BG196 -> 0.12767551 | H45: ='Income Statement'!BH196 -> 0.20950114 | I45: ='Income Statement'!BI196 -> 0.15812494 | ... Q45: ='Income Statement'!BQ196 -> 0.25 | S45: ='Income Statement'!CY196 -> 0.43329953 | T45: ='Income Statement'!CZ196 -> 0.08899768 | U45: ='Income Statement'!DA196 -> 0.14003586 | V45: ='Income Statement'!DB196 -> 0.30771335 | W45: ='Income Statement'!DC196 -> 0.3612581
...

Sheet Revenue Summary
A1: META
A2: Revenue & Key Metrics Summary
A3: (USD millions) | B3: ='Income Statement'!BB1 -> 1Q23 | C3: ='Income Statement'!BC1 -> 2Q23 | D3: ='Income Statement'!BD1 -> 3Q23 | E3: ='Income Statement'!BE1 -> 4Q23 | F3: ='Income Statement'!BF1 -> 1Q24 | G3: ='Income Statement'!BG1 -> 2Q24 | H3: ='Income Statement'!BH1 -> 3Q24 | I3: ='Income Statement'!BI1 -> 4Q24 | ... Q3: ='Income Statement'!BQ1 -> 4Q26E | S3: ='Income Statement'!CY1 -> 2022 | T3: ='Income Statement'!CZ1 -> 2023 | U3: ='Income Statement'!DA1 -> 2024 | V3: ='Income Statement'!DB1 -> 2025 | W3: ='Income Statement'!DC1 -> 2026E
A5: Total Revenues | B5: ='Income Statement'!BB157 -> 28645 | C5: ='Income Statement'!BC157 -> 31999 | D5: ='Income Statement'!BD157 -> 34146 | E5: ='Income Statement'!BE157 -> 40111 | F5: ='Income Statement'!BF157 -> 36455 | G5: ='Income Statement'!BG157 -> 39071 | H5: ='Income Statement'!BH157 -> 40589 | I5: ='Income Statement'!BI157 -> 48385 | ... Q5: ='Income Statement'!BQ157 -> 73400.02 | S5: ='Income Statement'!CY157 -> 116609 | T5: ='Income Statement'!CZ157 -> 134901 | U5: ='Income Statement'!DA157 -> 164500 | V5: ='Income Statement'!DB157 -> 200965 | W5: ='Income Statement'!DC157 -> 251108.31
A6: Family of Apps (FOA) | B6: ='Income Statement'!BB3 -> 28306 | C6: ='Income Statement'!BC3 -> 31723 | D6: ='Income Statement'!BD3 -> 33936 | E6: ='Income Statement'!BE3 -> 39040 | F6: ='Income Statement'!BF3 -> 36015 | G6: ='Income Statement'!BG3 -> 38718 | H6: ='Income Statement'!BH3 -> 40319 | I6: ='Income Statement'!BI3 -> 47302 | ... Q6: ='Income Statement'!BQ3 -> 72206.27 | S6: ='Income Statement'!CY3 -> 114450 | T6: ='Income Statement'!CZ3 -> 133005 | U6: ='Income Statement'!DA3 -> 162354 | V6: ='Income Statement'!DB3 -> 198758 | W6: ='Income Statement'!DC3 -> 248349.56
A7: Advertising | B7: ='Income Statement'!BB8 -> 28101 | C7: ='Income Statement'!BC8 -> 31498 | D7: ='Income Statement'!BD8 -> 33643 | E7: ='Income Statement'!BE8 -> 38706 | F7: ='Income Statement'!BF8 -> 35635 | G7: ='Income Statement'!BG8 -> 38329 | H7: ='Income Statement'!BH8 -> 39885 | I7: ='Income Statement'!BI8 -> 46783 | ... Q7: ='Income Statement'!BQ8 -> 71205.02 | S7: ='Income Statement'!CY8 -> 113641 | T7: ='Income Statement'!CZ8 -> 131948 | U7: ='Income Statement'!DA8 -> 160632 | V7: ='Income Statement'!DB8 -> 196174 | W7: ='Income Statement'!DC8 -> 245119.56
A8: US & Canada | B8: ='Income Statement'!BB14 -> 12710 | C8: ='Income Statement'!BC14 -> 14131 | D8: ='Income Statement'!BD14 -> 14956 | E8: ='Income Statement'!BE14 -> 17784 | F8: ='Income Statement'!BF14 -> 15451 | G8: ='Income Statement'!BG14 -> 16593 | H8: ='Income Statement'!BH14 -> 17389 | I8: ='Income Statement'!BI14 -> 20982 | ... Q8: ='Income Statement'!BQ14 -> 31284.46 | S8: ='Income Statement'!CY14 -> 52583 | T8: ='Income Statement'!CZ14 -> 59581 | U8: ='Income Statement'!DA14 -> 70415 | V8: ='Income Statement'!DB14 -> 85278 | W8: ='Income Statement'!DC14 -> 106741.16
A9: Europe | B9: ='Income Statement'!BB22 -> 6269 | C9: ='Income Statement'!BC22 -> 7268 | D9: ='Income Statement'!BD22 -> 7721 | E9: ='Income Statement'!BE22 -> 9159 | F9: ='Income Statement'!BF22 -> 8327 | G9: ='Income Statement'!BG22 -> 9135 | H9: ='Income Statement'!BH22 -> 9358 | I9: ='Income Statement'!BI22 -> 11154 | ... Q9: ='Income Statement'!BQ22 -> 17747.5 | S9: ='Income Statement'!CY22 -> 25335 | T9: ='Income Statement'!CZ22 -> 30417 | U9: ='Income Statement'!DA22 -> 37974 | V9: ='Income Statement'!DB22 -> 47163 | W9: ='Income Statement'!DC22 -> 60617.18
A10: Asia | B10: ='Income Statement'!BB30 -> 5893 | C10: ='Income Statement'!BC30 -> 6435 | D10: ='Income Statement'!BD30 -> 6829 | E10: ='Income Statement'!BE30 -> 7316 | F10: ='Income Statement'!BF30 -> 7338 | G10: ='Income Statement'!BG30 -> 7721 | H10: ='Income Statement'!BH30 -> 8050 | I10: ='Income Statement'!BI30 -> 9012 | ... Q10: ='Income Statement'!BQ30 -> 13289.46 | S10: ='Income Statement'!CY30 -> 23181 | T10: ='Income Statement'!CZ30 -> 26473 | U10: ='Income Statement'!DA30 -> 32121 | V10: ='Income Statement'!DB30 -> 38285 | W10: ='Income Statement'!DC30 -> 46416.98
A11: Rest of World | B11: ='Income Statement'!BB38 -> 3229 | C11: ='Income Statement'!BC38 -> 3664 | D11: ='Income Statement'!BD38 -> 4137 | E11: ='Income Statement'!BE38 -> 4447 | F11: ='Income Statement'!BF38 -> 4519 | G11: ='Income Statement'!BG38 -> 4880 | H11: ='Income Statement'!BH38 -> 5088 | I11: ='Income Statement'!BI38 -> 5635 | ... Q11: ='Income Statement'!BQ38 -> 8883.6 | S11: ='Income Statement'!CY38 -> 12542 | T11: ='Income Statement'!CZ38 -> 15477 | U11: ='Income Statement'!DA38 -> 20122 | V11: ='Income Statement'!DB38 -> 25448 | W11: ='Income Statement'!DC38 -> 31344.24
A12: Other Revenues | B12: ='Income Statement'!BB47 -> 205 | C12: ='Income Statement'!BC47 -> 225 | D12: ='Income Statement'!BD47 -> 293 | E12: ='Income Statement'!BE47 -> 334 | F12: ='Income Statement'!BF47 -> 380 | G12: ='Income Statement'!BG47 -> 389 | H12: ='Income Statement'!BH47 -> 434 | I12: ='Income Statement'!BI47 -> 519 | ... Q12: ='Income Statement'!BQ47 -> 1001.25 | S12: ='Income Statement'!CY47 -> 809 | T12: ='Income Statement'!CZ47 -> 1057 | U12: ='Income Statement'!DA47 -> 1722 | V12: ='Income Statement'!DB47 -> 2584 | W12: ='Income Statement'!DC47 -> 3230
A13: Reality Labs | B13: ='Income Statement'!BB53 -> 339 | C13: ='Income Statement'!BC53 -> 276 | D13: ='Income Statement'!BD53 -> 210 | E13: ='Income Statement'!BE53 -> 1071 | F13: ='Income Statement'!BF53 -> 440 | G13: ='Income Statement'!BG53 -> 353 | H13: ='Income Statement'!BH53 -> 270 | I13: ='Income Statement'!BI53 -> 1083 | ... Q13: ='Income Statement'!BQ53 -> 1193.75 | S13: ='Income Statement'!CY53 -> 2159 | T13: ='Income Statement'!CZ53 -> 1896 | U13: ='Income Statement'!DA53 -> 2146 | V13: ='Income Statement'!DB53 -> 2207 | W13: ='Income Statement'!DC53 -> 2758.75
A15: Total User & ARPU Details:
A16: Total DAPs | B16: ='Income Statement'!BB84 -> 3020 | C16: ='Income Statement'!BC84 -> 3070 | D16: ='Income Statement'!BD84 -> 3140 | E16: ='Income Statement'!BE84 -> 3190 | F16: ='Income Statement'!BF84 -> 3240 | G16: ='Income Statement'!BG84 -> 3270 | H16: ='Income Statement'!BH84 -> 3290 | I16: ='Income Statement'!BI84 -> 3350 | ... Q16: ='Income Statement'!BQ84 -> 3723.2 | S16: ='Income Statement'!CY84 -> 2960 | T16: ='Income Statement'!CZ84 -> 3190 | U16: ='Income Statement'!DA84 -> 3350 | V16: ='Income Statement'!DB84 -> 3580 | W16: ='Income Statement'!DC84 -> 3723.2
A17: ARPU (per DAP) | B17: ='Income Statement'!BB87 -> 9.5802676 | C17: ='Income Statement'!BC87 -> 10.508703 | D17: ='Income Statement'!BD87 -> 10.997101 | E17: ='Income Statement'!BE87 -> 12.673302 | F17: ='Income Statement'!BF87 -> 11.339036 | G17: ='Income Statement'!BG87 -> 12.003379 | H17: ='Income Statement'!BH87 -> 12.374695 | I17: ='Income Statement'!BI87 -> 14.573795 | ... Q17: ='Income Statement'!BQ87 -> 19.824984 | S17: ='Income Statement'!CY87 -> 40.349135 | T17: ='Income Statement'!CZ87 -> 43.870244 | U17: ='Income Statement'!DA87 -> 50.30581 | V17: ='Income Statement'!DB87 -> 57.998557 | W17: ='Income Statement'!DC87 -> 68.766653
A18: Advertising ARPU (per DAP) | B18: ='Income Statement'!BB90 -> 9.3983278 | C18: ='Income Statement'!BC90 -> 10.344171 | D18: ='Income Statement'!BD90 -> 10.835105 | E18: ='Income Statement'!BE90 -> 12.229384 | F18: ='Income Statement'!BF90 -> 11.083981 | G18: ='Income Statement'!BG90 -> 11.775422 | H18: ='Income Statement'!BH90 -> 12.160061 | I18: ='Income Statement'!BI90 -> 14.091265 | ... Q18: ='Income Statement'!BQ90 -> 19.232125 | S18: ='Income Statement'!CY90 -> 39.322145 | T18: ='Income Statement'!CZ90 -> 42.909919 | U18: ='Income Statement'!DA90 -> 49.122936 | V18: ='Income Statement'!DB90 -> 56.615873 | W18: ='Income Statement'!DC90 -> 67.126618
A20: Year-on-Year Growth
A22: Total Revenues | B22: ='Income Statement'!BB159 -> 0.026408198 | C22: ='Income Statement'!BC159 -> 0.1102283 | D22: ='Income Statement'!BD159 -> 0.23208487 | E22: ='Income Statement'!BE159 -> 0.24703871 | F22: ='Income Statement'!BF159 -> 0.27264793 | G22: ='Income Statement'!BG159 -> 0.22100691 | H22: ='Income Statement'!BH159 -> 0.18868974 | I22: ='Income Statement'!BI159 -> 0.20627758 | ... Q22: ='Income Statement'!BQ159 -> 0.22551918 | S22: ='Income Statement'!CY159 -> -0.011193176 | T22: ='Income Statement'!CZ159 -> 0.15686611 | U22: ='Income Statement'!DA159 -> 0.21941275 | V22: ='Income Statement'!DB159 -> 0.22167173 | W22: ='Income Statement'!DC159 -> 0.24951265
A23: Family of Apps (FOA) | B23: ='Income Statement'!BB5 -> 0.040164627 | C23: ='Income Statement'!BC5 -> 0.11818823 | D23: ='Income Statement'!BD5 -> 0.23723067 | E23: ='Income Statement'!BE5 -> 0.24180928 | F23: ='Income Statement'!BF5 -> 0.27234509 | G23: ='Income Statement'!BG5 -> 0.22050247 | H23: ='Income Statement'!BH5 -> 0.18808934 | I23: ='Income Statement'!BI5 -> 0.2116291 | ... Q23: ='Income Statement'!BQ5 -> 0.2251225 | S23: ='Income Statement'!CY5 -> -0.010418918 | T23: ='Income Statement'!CZ5 -> 0.1621232 | U23: ='Income Statement'!DA5 -> 0.22066088 | V23: ='Income Statement'!DB5 -> 0.22422607 | W23: ='Income Statement'!DC5 -> 0.24950724
A24: Advertising | B24: ='Income Statement'!BB10 -> 0.040854878 | C24: ='Income Statement'!BC10 -> 0.11885479 | D24: ='Income Statement'!BD10 -> 0.23519477 | E24: ='Income Statement'!BE10 -> 0.23843348 | F24: ='Income Statement'!BF10 -> 0.26810434 | G24: ='Income Statement'!BG10 -> 0.21687091 | H24: ='Income Statement'!BH10 -> 0.18553637 | I24: ='Income Statement'!BI10 -> 0.20867566 | ... Q24: ='Income Statement'!BQ10 -> 0.22477974 | S24: ='Income Statement'!CY10 -> -0.011249935 | T24: ='Income Statement'!CZ10 -> 0.16109503 | U24: ='Income Statement'!DA10 -> 0.21738867 | V24: ='Income Statement'!DB10 -> 0.22126351 | W24: ='Income Statement'!DC10 -> 0.24950075
A25: US & Canada | B25: ='Income Statement'!BB16 -> 0.057052562 | C25: ='Income Statement'!BC16 -> 0.10502033 | D25: ='Income Statement'!BD16 -> 0.17154943 | E25: ='Income Statement'!BE16 -> 0.18520493 | F25: ='Income Statement'!BF16 -> 0.21565696 | G25: ='Income Statement'!BG16 -> 0.17422688 | H25: ='Income Statement'!BH16 -> 0.16267719 | I25: ='Income Statement'!BI16 -> 0.17982456 | ... Q25: ='Income Statement'!BQ16 -> 0.22 | S25: ='Income Statement'!CY16 -> -0.015649862 | T25: ='Income Statement'!CZ16 -> 0.13308484 | U25: ='Income Statement'!DA16 -> 0.18183649 | V25: ='Income Statement'!DB16 -> 0.21107719 | W25: ='Income Statement'!DC16 -> 0.25168461
A26: Ad Impressions | B26: ='Income Statement'!BB19 -> 0.22 | C26: ='Income Statement'!BC19 -> 0.28 | D26: ='Income Statement'!BD19 -> 0.26 | E26: ='Income Statement'!BE19 -> 0.16 | F26: ='Income Statement'!BF19 -> 0.16 | G26: ='Income Statement'!BG19 -> 0.08 | H26: ='Income Statement'!BH19 -> 0.07 | I26: ='Income Statement'!BI19 -> 0.06 | ... M26: ='Income Statement'!BM19 -> 0.13
A27: Price per Ad Impression | B27: ='Income Statement'!BB20 -> -0.13 | C27: ='Income Statement'!BC20 -> -0.14 | D27: ='Income Statement'!BD20 -> -0.07 | E27: ='Income Statement'!BE20 -> 0.02 | F27: ='Income Statement'!BF20 -> 0.05 | G27: ='Income Statement'!BG20 -> 0.09 | H27: ='Income Statement'!BH20 -> 0.09 | I27: ='Income Statement'!BI20 -> 0.12 | ... M27: ='Income Statement'!BM20 -> 0.09
A28: Europe | B28: ='Income Statement'!BB24 -> -0.014927718 | C28: ='Income Statement'!BC24 -> 0.1427673 | D28: ='Income Statement'!BD24 -> 0.35289995 | E28: ='Income Statement'!BE24 -> 0.32662225 | F28: ='Income Statement'!BF24 -> 0.32828202 | G28: ='Income Statement'!BG24 -> 0.25687947 | H28: ='Income Statement'!BH24 -> 0.21201917 | I28: ='Income Statement'!BI24 -> 0.21781854 | ... Q28: ='Income Statement'!BQ24 -> 0.25 | S28: ='Income Statement'!CY24 -> -0.11332377 | T28: ='Income Statement'!CZ24 -> 0.20059207 | U28: ='Income Statement'!DA24 -> 0.24844659 | V28: ='Income Statement'!DB24 -> 0.24198136 | W28: ='Income Statement'!DC24 -> 0.28526981
A29: Ad Impressions | B29: ='Income Statement'!BB27 -> 0.11 | C29: ='Income Statement'!BC27 -> 0.26 | D29: ='Income Statement'!BD27 -> 0.25 | E29: ='Income Statement'!BE27 -> 0.17 | F29: ='Income Statement'!BF27 -> 0.12 | G29: ='Income Statement'!BG27 -> 0.06 | H29: ='Income Statement'!BH27 -> 0.05 | I29: ='Income Statement'!BI27 -> 0.05 | ... M29: ='Income Statement'!BM27 -> 0.13
A30: Price per Ad Impression | B30: ='Income Statement'!BB28 -> -0.11 | C30: ='Income Statement'!BC28 -> -0.09 | D30: ='Income Statement'!BD28 -> 0.08 | E30: ='Income Statement'!BE28 -> 0.14 | F30: ='Income Statement'!BF28 -> 0.18 | G30: ='Income Statement'!BG28 -> 0.18 | H30: ='Income Statement'!BH28 -> 0.16 | I30: ='Income Statement'!BI28 -> 0.16 | ... M30: ='Income Statement'!BM28 -> 0.12
A31: Asia | B31: ='Income Statement'!BB32 -> 0.040982159 | C31: ='Income Statement'!BC32 -> 0.10282776 | D31: ='Income Statement'!BD32 -> 0.19450761 | E31: ='Income Statement'!BE32 -> 0.22587131 | F31: ='Income Statement'!BF32 -> 0.24520618 | G31: ='Income Statement'!BG32 -> 0.1998446 | H31: ='Income Statement'!BH32 -> 0.17879631 | I31: ='Income Statement'!BI32 -> 0.23182067 | ... Q31: ='Income Statement'!BQ32 -> 0.22 | S31: ='Income Statement'!CY32 -> 0.079793181 | T31: ='Income Statement'!CZ32 -> 0.14201286 | U31: ='Income Statement'!DA32 -> 0.21334945 | V31: ='Income Statement'!DB32 -> 0.19189938 | W31: ='Income Statement'!DC32 -> 0.21240643
A32: Ad Impressions | B32: ='Income Statement'!BB35 -> 0.34 | C32: ='Income Statement'!BC35 -> 0.42 | D32: ='Income Statement'!BD35 -> 0.39 | E32: ='Income Statement'!BE35 -> 0.3 | F32: ='Income Statement'!BF35 -> 0.28 | G32: ='Income Statement'!BG35 -> 0.15 | H32: ='Income Statement'!BH35 -> 0.09 | I32: ='Income Statement'!BI35 -> 0.1 | ... M32: ='Income Statement'!BM35 -> 0.24
A33: Price per Ad Impression | B33: ='Income Statement'!BB36 -> -0.22 | C33: ='Income Statement'!BC36 -> -0.22 | D33: ='Income Statement'!BD36 -> -0.14 | E33: ='Income Statement'!BE36 -> -0.06 | F33: ='Income Statement'!BF36 -> -0.03 | G33: ='Income Statement'!BG36 -> 0.04 | H33: ='Income Statement'!BH36 -> 0.08 | I33: ='Income Statement'!BI36 -> 0.12 | ... M33: ='Income Statement'!BM36 -> -0.02
A34: Rest of World | B34: ='Income Statement'!BB40 -> 0.09494744 | C34: ='Income Statement'!BC40 -> 0.15620069 | D34: ='Income Statement'!BD40 -> 0.35772891 | E34: ='Income Statement'!BE40 -> 0.31684927 | F34: ='Income Statement'!BF40 -> 0.39950449 | G34: ='Income Statement'!BG40 -> 0.33187773 | H34: ='Income Statement'!BH40 -> 0.22987672 | I34: ='Income Statement'!BI40 -> 0.26714639 | ... Q34: ='Income Statement'!BQ40 -> 0.2 | S34: ='Income Statement'!CY40 -> 0.093080007 | T34: ='Income Statement'!CZ40 -> 0.23401371 | U34: ='Income Statement'!DA40 -> 0.30012276 | V34: ='Income Statement'!DB40 -> 0.26468542 | W34: ='Income Statement'!DC40 -> 0.23169758
A35: Ad Impressions | B35: ='Income Statement'!BB43 -> 0.28 | C35: ='Income Statement'!BC43 -> 0.31 | D35: ='Income Statement'!BD43 -> 0.27 | E35: ='Income Statement'!BE43 -> 0.17 | F35: ='Income Statement'!BF43 -> 0.17 | G35: ='Income Statement'!BG43 -> 0.08 | H35: ='Income Statement'!BH43 -> 0.05 | I35: ='Income Statement'!BI43 -> 0.03 | ... M35: ='Income Statement'!BM43 -> 0.14
A36: Price per Ad Impression | B36: ='Income Statement'!BB44 -> -0.15 | C36: ='Income Statement'!BC44 -> -0.12 | D36: ='Income Statement'!BD44 -> 0.07 | E36: ='Income Statement'!BE44 -> 0.13 | F36: ='Income Statement'!BF44 -> 0.2 | G36: ='Income Statement'!BG44 -> 0.24 | H36: ='Income Statement'!BH44 -> 0.17 | I36: ='Income Statement'!BI44 -> 0.23 | ... M36: ='Income Statement'!BM44 -> 0.15
A37: Other Revenues | B37: ='Income Statement'!BB49 -> -0.046511628 | C37: ='Income Statement'!BC49 -> 0.032110092 | D37: ='Income Statement'!BD49 -> 0.52604167 | E37: ='Income Statement'!BE49 -> 0.81521739 | F37: ='Income Statement'!BF49 -> 0.85365854 | G37: ='Income Statement'!BG49 -> 0.72888889 | H37: ='Income Statement'!BH49 -> 0.48122867 | I37: ='Income Statement'!BI49 -> 0.55389222 | ... Q37: ='Income Statement'!BQ49 -> 0.25 | S37: ='Income Statement'!CY49 -> 0.1220527 | T37: ='Income Statement'!CZ49 -> 0.3065513 | U37: ='Income Statement'!DA49 -> 0.62913907 | V37: ='Income Statement'!DB49 -> 0.50058072 | W37: ='Income Statement'!DC49 -> 0.25
A38: Reality Labs | B38: ='Income Statement'!BB55 -> -0.51223022 | C38: ='Income Statement'!BC55 -> -0.38938053 | D38: ='Income Statement'!BD55 -> -0.26315789 | E38: ='Income Statement'!BE55 -> 0.47317744 | F38: ='Income Statement'!BF55 -> 0.2979351 | G38: ='Income Statement'!BG55 -> 0.27898551 | H38: ='Income Statement'!BH55 -> 0.28571429 | I38: ='Income Statement'!BI55 -> 0.011204482 | ... Q38: ='Income Statement'!BQ55 -> 0.25 | S38: ='Income Statement'!CY55 -> -0.05057168 | T38: ='Income Statement'!CZ55 -> -0.12181566 | U38: ='Income Statement'!DA55 -> 0.13185654 | V38: ='Income Statement'!DB55 -> 0.028424977 | W38: ='Income Statement'!DC55 -> 0.25
A40: Total User & ARPU Details:
A41: Total DAPs | B41: ='Income Statement'!BB86 -> 0.052264808 | C41: ='Income Statement'!BC86 -> 0.065972222 | D41: ='Income Statement'!BD86 -> 0.071672355 | E41: ='Income Statement'!BE86 -> 0.077702703 | F41: ='Income Statement'!BF86 -> 0.072847682 | G41: ='Income Statement'!BG86 -> 0.06514658 | H41: ='Income Statement'!BH86 -> 0.047770701 | I41: ='Income Statement'!BI86 -> 0.05015674 | ... Q41: ='Income Statement'!BQ86 -> 0.04 | S41: ='Income Statement'!CY86 -> 0.04964539 | T41: ='Income Statement'!CZ86 -> 0.077702703 | U41: ='Income Statement'!DA86 -> 0.05015674 | V41: ='Income Statement'!DB86 -> 0.068656716 | W41: ='Income Statement'!DC86 -> 0.04
A42: ARPU (per DAP) | B42: ='Income Statement'!BB89 -> -0.02336745 | C42: ='Income Statement'!BC89 -> 0.048245109 | D42: ='Income Statement'!BD89 -> 0.15272352 | E42: ='Income Statement'!BE89 -> 0.16035671 | F42: ='Income Statement'!BF89 -> 0.18358237 | G42: ='Income Statement'!BG89 -> 0.14223227 | H42: ='Income Statement'!BH89 -> 0.1252688 | I42: ='Income Statement'!BI89 -> 0.1499604 | ... Q42: ='Income Statement'!BQ89 -> 0.17838382 | S42: ='Income Statement'!CY89 -> -0.07277976 | T42: ='Income Statement'!CZ89 -> 0.087266033 | U42: ='Income Statement'!DA89 -> 0.14669548 | V42: ='Income Statement'!DB89 -> 0.15291964 | W42: ='Income Statement'!DC89 -> 0.18566145
A43: Advertising ARPU (per DAP) | B43: ='Income Statement'!BB92 -> -0.0096213618 | C43: ='Income Statement'!BC92 -> 0.056389989 | D43: ='Income Statement'!BD92 -> 0.15563311 | E43: ='Income Statement'!BE92 -> 0.15234964 | F43: ='Income Statement'!BF92 -> 0.17935676 | G43: ='Income Statement'!BG92 -> 0.13836311 | H43: ='Income Statement'!BH92 -> 0.12228366 | I43: ='Income Statement'!BI92 -> 0.15224652 | ... Q43: ='Income Statement'!BQ92 -> 0.17767283 | S43: ='Income Statement'!CY92 -> -0.072832984 | T43: ='Income Statement'!CZ92 -> 0.09124053 | U43: ='Income Statement'!DA92 -> 0.1447921 | V43: ='Income Statement'!DB92 -> 0.15253439 | W43: ='Income Statement'!DC92 -> 0.18565015
A45: Quarter-on-Quarter Growth
A47: Total Revenues | B47: ='Income Statement'!BB158 -> -0.10943572 | C47: ='Income Statement'!BC158 -> 0.1170885 | D47: ='Income Statement'!BD158 -> 0.067095847 | E47: ='Income Statement'!BE158 -> 0.17469103 | F47: ='Income Statement'!BF158 -> -0.091147067 | G47: ='Income Statement'!BG158 -> 0.071759704 | H47: ='Income Statement'!BH158 -> 0.038852346 | I47: ='Income Statement'!BI158 -> 0.19207174 | ... Q47: ='Income Statement'!BQ158 -> 0.16869168
...

Sheet Valuation
A2: Ticker | B2: META
A3: Stock Price | B3: 717
A4: Diluted Shares (mm) | B4: =HLOOKUP('NTM Valuation'!$C$3,'Shares Outstanding & Corporate'!A1:CL9,ROW('Shares Outstanding & Corporate'!A9),FALSE) -> 2565
A5: Market Cap (mm) | B5: =B3*B4 -> 1839105
A6: Net Debt (Cash) | B6: =HLOOKUP('NTM Valuation'!C3,'Balance Sheet'!A1:CL42,ROW('Balance Sheet'!A42),FALSE) -> -22848
A7: Enterprise Value (mm) | B7: =B5+B6 -> 1816257
B9: ='Income Statement'!CY1 -> 2022 | C9: ='Income Statement'!CZ1 -> 2023 | D9: ='Income Statement'!DA1 -> 2024 | E9: ='Income Statement'!DB1 -> 2025 | F9: ='Income Statement'!DC1 -> 2026E | G9: ='Income Statement'!DD1 -> 2027E | H9: ='Income Statement'!DE1 -> 2028E | I9: ='Income Statement'!DF1 -> 2029E | J9: ='Income Statement'!DG1 -> 2030E
A10: Sales | B10: ='Income Statement'!CY157 -> 116609 | C10: ='Income Statement'!CZ157 -> 134901 | D10: ='Income Statement'!DA157 -> 164500 | E10: ='Income Statement'!DB157 -> 200965 | F10: ='Income Statement'!DC157 -> 251108.31 | G10: ='Income Statement'!DD157 -> 299097.57 | H10: ='Income Statement'!DE157 -> 345410.32 | I10: ='Income Statement'!DF157 -> 390292.01 | J10: ='Income Statement'!DG157 -> 433169.81
A11: YoY Growth | B11: ='Income Statement'!CY159 -> -0.011193176 | C11: ='Income Statement'!CZ159 -> 0.15686611 | D11: ='Income Statement'!DA159 -> 0.21941275 | E11: ='Income Statement'!DB159 -> 0.22167173 | F11: ='Income Statement'!DC159 -> 0.24951265 | G11: ='Income Statement'!DD159 -> 0.19110982 | H11: ='Income Statement'!DE159 -> 0.15484159 | I11: ='Income Statement'!DF159 -> 0.12993731 | J11: ='Income Statement'!DG159 -> 0.10986082
A12: EV/Sales | B12: =$B$7/B10 -> 15.575616 | C12: =$B$7/C10 -> 13.463629 | D12: =$B$7/D10 -> 11.041076 | E12: =$B$7/E10 -> 9.0376782 | F12: =$B$7/F10 -> 7.2329625 | G12: =$B$7/G10 -> 6.0724565 | H12: =$B$7/H10 -> 5.2582592 | I12: =$B$7/I10 -> 4.6535849 | J12: =$B$7/J10 -> 4.1929446
A13: EV/Sales to Growth | B13: =IFERROR(IF(AND(B12/(B11*100)>$B$89,B12/(B11*100)<$C$89),B12/(B11*100),"n/a"),"n/a") -> n/a | C13: =IFERROR(IF(AND(C12/(C11*100)>$B$89,C12/(C11*100)<$C$89),C12/(C11*100),"n/a"),"n/a") -> 0.85828794 | D13: =IFERROR(IF(AND(D12/(D11*100)>$B$89,D12/(D11*100)<$C$89),D12/(D11*100),"n/a"),"n/a") -> 0.50321031 | E13: =IFERROR(IF(AND(E12/(E11*100)>$B$89,E12/(E11*100)<$C$89),E12/(E11*100),"n/a"),"n/a") -> 0.40770549 | F13: =IFERROR(IF(AND(F12/(F11*100)>$B$89,F12/(F11*100)<$C$89),F12/(F11*100),"n/a"),"n/a") -> 0.2898836 | G13: =IFERROR(IF(AND(G12/(G11*100)>$B$89,G12/(G11*100)<$C$89),G12/(G11*100),"n/a"),"n/a") -> 0.31774696 | H13: =IFERROR(IF(AND(H12/(H11*100)>$B$89,H12/(H11*100)<$C$89),H12/(H11*100),"n/a"),"n/a") -> 0.33958958 | I13: =IFERROR(IF(AND(I12/(I11*100)>$B$89,I12/(I11*100)<$C$89),I12/(I11*100),"n/a"),"n/a") -> 0.35814078 | J13: =IFERROR(IF(AND(J12/(J11*100)>$B$89,J12/(J11*100)<$C$89),J12/(J11*100),"n/a"),"n/a") -> 0.38165968
A15: GAAP EBIT | B15: ='Income Statement'!CY216 -> 28945 | C15: ='Income Statement'!CZ216 -> 46751 | D15: ='Income Statement'!DA216 -> 69380 | E15: ='Income Statement'!DB216 -> 83276 | F15: ='Income Statement'!DC216 -> 84762.202 | G15: ='Income Statement'!DD216 -> 99831.57 | H15: ='Income Statement'!DE216 -> 112239.76 | I15: ='Income Statement'!DF216 -> 124083.22 | J15: ='Income Statement'!DG216 -> 136774.6
A16: GAAP EBIT Margin | B16: ='Income Statement'!CY217 -> 0.24822269 | C16: ='Income Statement'!CZ217 -> 0.34655785 | D16: ='Income Statement'!DA217 -> 0.42176292 | E16: ='Income Statement'!DB217 -> 0.41438061 | F16: ='Income Statement'!DC217 -> 0.33755236 | G16: ='Income Statement'!DD217 -> 0.33377593 | H16: ='Income Statement'!DE217 -> 0.32494618 | I16: ='Income Statement'!DF217 -> 0.31792405 | J16: ='Income Statement'!DG217 -> 0.31575284
A17: YoY Growth | B17: ='Income Statement'!CY219 -> -0.38089534 | C17: ='Income Statement'!CZ219 -> 0.6151667 | D17: ='Income Statement'!DA219 -> 0.48403243 | E17: ='Income Statement'!DB219 -> 0.20028827 | F17: ='Income Statement'!DC219 -> 0.017846703 | G17: ='Income Statement'!DD219 -> 0.17778406 | H17: ='Income Statement'!DE219 -> 0.12429126 | I17: ='Income Statement'!DF219 -> 0.10551923 | J17: ='Income Statement'!DG219 -> 0.10228122
A18: EV/GAAP EBIT | B18: =$B$7/B15 -> 62.748558 | C18: =$B$7/C15 -> 38.849586 | D18: =$B$7/D15 -> 26.178394 | E18: =$B$7/E15 -> 21.810089 | F18: =$B$7/F15 -> 21.427676 | G18: =$B$7/G15 -> 18.193213 | H18: =$B$7/H15 -> 16.181939 | I18: =$B$7/I15 -> 14.637411 | J18: =$B$7/J15 -> 13.279198
A19: EV/GAAP EBIT to Growth | B19: =IFERROR(IF(AND(B18/(B17*100)>$B$90,B18/(B17*100)<$C$90),B18/(B17*100),"n/a"),"n/a") -> n/a | C19: =IFERROR(IF(AND(C18/(C17*100)>$B$90,C18/(C17*100)<$C$90),C18/(C17*100),"n/a"),"n/a") -> 0.63152941 | D19: =IFERROR(IF(AND(D18/(D17*100)>$B$90,D18/(D17*100)<$C$90),D18/(D17*100),"n/a"),"n/a") -> 0.54083968 | E19: =IFERROR(IF(AND(E18/(E17*100)>$B$90,E18/(E17*100)<$C$90),E18/(E17*100),"n/a"),"n/a") -> 1.0889349 | F19: =IFERROR(IF(AND(F18/(F17*100)>$B$90,F18/(F17*100)<$C$90),F18/(F17*100),"n/a"),"n/a") -> n/a | G19: =IFERROR(IF(AND(G18/(G17*100)>$B$90,G18/(G17*100)<$C$90),G18/(G17*100),"n/a"),"n/a") -> 1.0233321 | H19: =IFERROR(IF(AND(H18/(H17*100)>$B$90,H18/(H17*100)<$C$90),H18/(H17*100),"n/a"),"n/a") -> 1.301937 | I19: =IFERROR(IF(AND(I18/(I17*100)>$B$90,I18/(I17*100)<$C$90),I18/(I17*100),"n/a"),"n/a") -> 1.3871794 | J19: =IFERROR(IF(AND(J18/(J17*100)>$B$90,J18/(J17*100)<$C$90),J18/(J17*100),"n/a"),"n/a") -> 1.2983027
A21: GAAP EBITDA | B21: ='Cash Flow Statement'!CY72 -> 37631 | C21: ='Cash Flow Statement'!CZ72 -> 57928 | D21: ='Cash Flow Statement'!DA72 -> 84878 | E21: ='Cash Flow Statement'!DB72 -> 101892 | F21: ='Cash Flow Statement'!DC72 -> 123011.5 | G21: ='Cash Flow Statement'!DD72 -> 157091.03 | H21: ='Cash Flow Statement'!DE72 -> 190339.81 | I21: ='Cash Flow Statement'!DF72 -> 223254.39 | J21: ='Cash Flow Statement'!DG72 -> 255336.49
A22: GAAP EBITDA Margin | B22: ='Cash Flow Statement'!CY73 -> 0.32271094 | C22: ='Cash Flow Statement'!CZ73 -> 0.4294112 | D22: ='Cash Flow Statement'!DA73 -> 0.51597568 | E22: ='Cash Flow Statement'!DB73 -> 0.50701366 | F22: ='Cash Flow Statement'!DC73 -> 0.48987426 | G22: ='Cash Flow Statement'!DD73 -> 0.52521666 | H22: ='Cash Flow Statement'!DE73 -> 0.5510542 | I22: ='Cash Flow Statement'!DF73 -> 0.57201887 | J22: ='Cash Flow Statement'!DG73 -> 0.5894605
A23: YoY Growth | B23: ='Cash Flow Statement'!CY75 -> -0.31228641 | C23: ='Cash Flow Statement'!CZ75 -> 0.53936914 | D23: ='Cash Flow Statement'!DA75 -> 0.4652327 | E23: ='Cash Flow Statement'!DB75 -> 0.20045241 | F23: ='Cash Flow Statement'!DC75 -> 0.20727337 | G23: ='Cash Flow Statement'!DD75 -> 0.27704345 | H23: ='Cash Flow Statement'!DE75 -> 0.21165296 | I23: ='Cash Flow Statement'!DF75 -> 0.17292539 | J23: ='Cash Flow Statement'!DG75 -> 0.14370198
A24: EV/GAAP EBITDA | B24: =$B$7/B21 -> 48.264915 | C24: =$B$7/C21 -> 31.353698 | D24: =$B$7/D21 -> 21.398442 | E24: =$B$7/E21 -> 17.825315 | F24: =$B$7/F21 -> 14.764937 | G24: =$B$7/G21 -> 11.561812 | H24: =$B$7/H21 -> 9.5421815 | I24: =$B$7/I21 -> 8.1353696 | J24: =$B$7/J21 -> 7.1131901
A25: EV/GAAP EBITDA to Growth | B25: =IFERROR(IF(AND(B24/(B23*100)>$B$90,B24/(B23*100)<$C$90),B24/(B23*100),"n/a"),"n/a") -> n/a | C25: =IFERROR(IF(AND(C24/(C23*100)>$B$90,C24/(C23*100)<$C$90),C24/(C23*100),"n/a"),"n/a") -> 0.58130315 | D25: =IFERROR(IF(AND(D24/(D23*100)>$B$90,D24/(D23*100)<$C$90),D24/(D23*100),"n/a"),"n/a") -> 0.45995138 | E25: =IFERROR(IF(AND(E24/(E23*100)>$B$90,E24/(E23*100)<$C$90),E24/(E23*100),"n/a"),"n/a") -> 0.8892542 | F25: =IFERROR(IF(AND(F24/(F23*100)>$B$90,F24/(F23*100)<$C$90),F24/(F23*100),"n/a"),"n/a") -> 0.71234122 | G25: =IFERROR(IF(AND(G24/(G23*100)>$B$90,G24/(G23*100)<$C$90),G24/(G23*100),"n/a"),"n/a") -> 0.41732849 | H25: =IFERROR(IF(AND(H24/(H23*100)>$B$90,H24/(H23*100)<$C$90),H24/(H23*100),"n/a"),"n/a") -> 0.45084093 | I25: =IFERROR(IF(AND(I24/(I23*100)>$B$90,I24/(I23*100)<$C$90),I24/(I23*100),"n/a"),"n/a") -> 0.47045548 | J25: =IFERROR(IF(AND(J24/(J23*100)>$B$90,J24/(J23*100)<$C$90),J24/(J23*100),"n/a"),"n/a") -> 0.49499596
A27: GAAP Net Income | B27: ='Income Statement'!CY275 -> 23199 | C27: ='Income Statement'!CZ275 -> 39097 | D27: ='Income Statement'!DA275 -> 62360 | E27: ='Income Statement'!DB275 -> 60458 | F27: ='Income Statement'!DC275 -> 74376.823 | G27: ='Income Statement'!DD275 -> 87665.746 | H27: ='Income Statement'!DE275 -> 98744.283 | I27: ='Income Statement'!DF275 -> 109752.87 | J27: ='Income Statement'!DG275 -> 121987.57
A28: GAAP Net Income Margin | B28: ='Income Statement'!CY276 -> 0.19894691 | C28: ='Income Statement'!CZ276 -> 0.28981994 | D28: ='Income Statement'!DA276 -> 0.37908815 | E28: ='Income Statement'!DB276 -> 0.30083845 | F28: ='Income Statement'!DC276 -> 0.29619419 | G28: ='Income Statement'!DD276 -> 0.29310083 | H28: ='Income Statement'!DE276 -> 0.28587531 | I28: ='Income Statement'!DF276 -> 0.28120707 | J28: ='Income Statement'!DG276 -> 0.28161605
A29: GAAP EPS | B29: ='Income Statement'!CY280 -> 8.7875 | C29: ='Income Statement'!CZ280 -> 14.865779 | D29: ='Income Statement'!DA280 -> 23.993844 | E29: ='Income Statement'!DB280 -> 23.487956 | F29: ='Income Statement'!DC280 -> 28.790308 | G29: ='Income Statement'!DD280 -> 33.591259 | H29: ='Income Statement'!DE280 -> 37.519577 | I29: ='Income Statement'!DF280 -> 41.360245 | J29: ='Income Statement'!DG280 -> 45.603527
A30: YoY Growth | B30: ='Income Statement'!CY282 -> -0.37525495 | C30: ='Income Statement'!CZ282 -> 0.6916961 | D30: ='Income Statement'!DA282 -> 0.614032 | E30: ='Income Statement'!DB282 -> -0.021084046 | F30: ='Income Statement'!DC282 -> 0.22574766 | G30: ='Income Statement'!DD282 -> 0.16675583 | H30: ='Income Statement'!DE282 -> 0.11694463 | I30: ='Income Statement'!DF282 -> 0.10236438 | J30: ='Income Statement'!DG282 -> 0.10259325
A31: P/E (GAAP) | B31: =$B$3/B29 -> 81.593172 | C31: =$B$3/C29 -> 48.231578 | D31: =$B$3/D29 -> 29.882665 | E31: =$B$3/E29 -> 30.526283 | F31: =$B$3/F29 -> 24.904215 | G31: =$B$3/G29 -> 21.344838 | H31: =$B$3/H29 -> 19.110024 | I31: =$B$3/I29 -> 17.335487 | J31: =$B$3/J29 -> 15.722468
A32: PEG (GAAP) | B32: =IFERROR(IF(AND(B31/(B30*100)>$B$90,B31/(B30*100)<$C$90),B31/(B30*100),"n/a"),"n/a") -> n/a | C32: =IFERROR(IF(AND(C31/(C30*100)>$B$90,C31/(C30*100)<$C$90),C31/(C30*100),"n/a"),"n/a") -> 0.69729435 | D32: =IFERROR(IF(AND(D31/(D30*100)>$B$90,D31/(D30*100)<$C$90),D31/(D30*100),"n/a"),"n/a") -> 0.48666299 | E32: =IFERROR(IF(AND(E31/(E30*100)>$B$90,E31/(E30*100)<$C$90),E31/(E30*100),"n/a"),"n/a") -> n/a | F32: =IFERROR(IF(AND(F31/(F30*100)>$B$90,F31/(F30*100)<$C$90),F31/(F30*100),"n/a"),"n/a") -> 1.1031882 | G32: =IFERROR(IF(AND(G31/(G30*100)>$B$90,G31/(G30*100)<$C$90),G31/(G30*100),"n/a"),"n/a") -> 1.2800055 | H32: =IFERROR(IF(AND(H31/(H30*100)>$B$90,H31/(H30*100)<$C$90),H31/(H30*100),"n/a"),"n/a") -> 1.6341087 | I32: =IFERROR(IF(AND(I31/(I30*100)>$B$90,I31/(I30*100)<$C$90),I31/(I30*100),"n/a"),"n/a") -> 1.6935077 | J32: =IFERROR(IF(AND(J31/(J30*100)>$B$90,J31/(J30*100)<$C$90),J31/(J30*100),"n/a"),"n/a") -> 1.5325052
A34: FCF minus SBC | B34: ='Cash Flow Statement'!CY84 -> 6448 | C34: ='Cash Flow Statement'!CZ84 -> 28983 | D34: ='Cash Flow Statement'!DA84 -> 35413 | E34: ='Cash Flow Statement'!DB84 -> 23159 | F34: ='Cash Flow Statement'!DC84 -> 17715.613 | G34: ='Cash Flow Statement'!DD84 -> 16374.435 | H34: ='Cash Flow Statement'!DE84 -> 28138.482 | I34: ='Cash Flow Statement'!DF84 -> 43185.74 | J34: ='Cash Flow Statement'!DG84 -> 57657.018
A35: (FCF-SBC) Margin % | B35: ='Cash Flow Statement'!CY85 -> 0.055295903 | C35: ='Cash Flow Statement'!CZ85 -> 0.21484644 | D35: ='Cash Flow Statement'!DA85 -> 0.2152766 | E35: ='Cash Flow Statement'!DB85 -> 0.11523897 | F35: ='Cash Flow Statement'!DC85 -> 0.070549689 | G35: ='Cash Flow Statement'!DD85 -> 0.05474613 | H35: ='Cash Flow Statement'!DE85 -> 0.081463929 | I35: ='Cash Flow Statement'!DF85 -> 0.11064982 | J35: ='Cash Flow Statement'!DG85 -> 0.13310489
A36: YoY Growth | B36: ='Cash Flow Statement'!CY87 -> -0.77975133 | C36: ='Cash Flow Statement'!CZ87 -> 3.4948821 | D36: ='Cash Flow Statement'!DA87 -> 0.22185419 | E36: ='Cash Flow Statement'!DB87 -> -0.34603112 | F36: ='Cash Flow Statement'!DC87 -> -0.23504412 | G36: ='Cash Flow Statement'!DD87 -> -0.07570602 | H36: ='Cash Flow Statement'!DE87 -> 0.71843989 | I36: ='Cash Flow Statement'!DF87 -> 0.5347573 | J36: ='Cash Flow Statement'!DG87 -> 0.3350939
A37: EV/(FCF-SBC) | B37: =$B$7/B34 -> 281.67757 | C37: =$B$7/C34 -> 62.666287 | D37: =$B$7/D34 -> 51.28786 | E37: =$B$7/E34 -> 78.425537 | F37: =$B$7/F34 -> 102.52295 | G37: =$B$7/G34 -> 110.92029 | H37: =$B$7/H34 -> 64.547086 | I37: =$B$7/I34 -> 42.056869 | J37: =$B$7/J34 -> 31.501057
A38: EV/(FCF-SBC) to Growth | B38: =IFERROR(IF(AND(B37/(B36*100)>$B$90,B37/(B36*100)<$C$90),B37/(B36*100),"n/a"),"n/a") -> n/a | C38: =IFERROR(IF(AND(C37/(C36*100)>$B$90,C37/(C36*100)<$C$90),C37/(C36*100),"n/a"),"n/a") -> 0.17930873 | D38: =IFERROR(IF(AND(D37/(D36*100)>$B$90,D37/(D36*100)<$C$90),D37/(D36*100),"n/a"),"n/a") -> 2.3117824 | E38: =IFERROR(IF(AND(E37/(E36*100)>$B$90,E37/(E36*100)<$C$90),E37/(E36*100),"n/a"),"n/a") -> n/a | F38: =IFERROR(IF(AND(F37/(F36*100)>$B$90,F37/(F36*100)<$C$90),F37/(F36*100),"n/a"),"n/a") -> n/a | G38: =IFERROR(IF(AND(G37/(G36*100)>$B$90,G37/(G36*100)<$C$90),G37/(G36*100),"n/a"),"n/a") -> n/a | H38: =IFERROR(IF(AND(H37/(H36*100)>$B$90,H37/(H36*100)<$C$90),H37/(H36*100),"n/a"),"n/a") -> 0.89843405 | I38: =IFERROR(IF(AND(I37/(I36*100)>$B$90,I37/(I36*100)<$C$90),I37/(I36*100),"n/a"),"n/a") -> 0.78646647 | J38: =IFERROR(IF(AND(J37/(J36*100)>$B$90,J37/(J36*100)<$C$90),J37/(J36*100),"n/a"),"n/a") -> 0.94006656
A40: FCF | B40: ='Cash Flow Statement'!CY77 -> 18439 | C40: ='Cash Flow Statement'!CZ77 -> 43010 | D40: ='Cash Flow Statement'!DA77 -> 52103 | E40: ='Cash Flow Statement'!DB77 -> 43585 | F40: ='Cash Flow Statement'!DC77 -> 39162.913 | G40: ='Cash Flow Statement'!DD77 -> 38894.1 | H40: ='Cash Flow Statement'!DE77 -> 51671.532 | I40: ='Cash Flow Statement'!DF77 -> 67660.112 | J40: ='Cash Flow Statement'!DG77 -> 82987.993
A41: FCF Margin % | B41: ='Cash Flow Statement'!CY78 -> 0.15812673 | C41: ='Cash Flow Statement'!CZ78 -> 0.3188264 | D41: ='Cash Flow Statement'!DA78 -> 0.31673556 | E41: ='Cash Flow Statement'!DB78 -> 0.21687856 | F41: ='Cash Flow Statement'!DC78 -> 0.15596024 | G41: ='Cash Flow Statement'!DD78 -> 0.13003816 | H41: ='Cash Flow Statement'!DE78 -> 0.14959464 | I41: ='Cash Flow Statement'!DF78 -> 0.17335767 | J41: ='Cash Flow Statement'!DG78 -> 0.19158305
A42: YoY Growth | B42: ='Cash Flow Statement'!CY80 -> -0.5203049 | C42: ='Cash Flow Statement'!CZ80 -> 1.332556 | D42: ='Cash Flow Statement'!DA80 -> 0.21141595 | E42: ='Cash Flow Statement'!DB80 -> -0.16348387 | F42: ='Cash Flow Statement'!DC80 -> -0.10145892 | G42: ='Cash Flow Statement'!DD80 -> -0.0068639827 | H42: ='Cash Flow Statement'!DE80 -> 0.32851852 | I42: ='Cash Flow Statement'!DF80 -> 0.30942726 | J42: ='Cash Flow Statement'!DG80 -> 0.22654235
